Workbook

Sheet 엑셀업로드양식
A1: 엑셀 업로드 양식(전자세금계산서-일반(영세율)) - 100건 이하
A2: ○ 필수항목(주황색)은 반드시 입력하셔야 합니다. > 아래 '항목설명' 및 '올바른 예시' 시트를 참고하여 작성하시기 바랍니다.
A3: ○ 임의로 양식을 변경[행 또는 열 추가 삭제 등]하는 경우 발급시 오류가 발생할 수 있으므로, 정해진 양식으로 작성하시기 바랍니다 > 실제 업로드할 DATA는 7행부터 입력하여야 하며, 최대 100건까지 입력이 가능합니다.(100건 초과 자료는 처리 안되며, 발급은 최대 50건씩 처리가능합니다)
A4: > 거래한 재화 또는 용역에 맞는 전자(세금)계산서 종류코드(01, 02)를 정확히 입력하셔야 합니다. > 품목은 1건 이상 입력해야 합니다. > 공급받는자 등록번호는 사업자등록번호, 주민등록번호를 입력할 수 있습니다. 외국인의 경우 공급받는자 등록번호(C열)에 '9999999999999'를 입력하시고, 비고란(N열)에 외국인등록번호 또는 여권번호를 입력하시기 바랍니다. > 마지막 열(오른쪽 끝)의 '영수(01), 청구(02)'는 필수 항목이니 누락하지 마시기 바랍니다.(영수 : 대가를 받은 경우, 청구 : 대가를 아직 못 받은 경우)
A5: ○ 처음 사용자께서는 '올바른 예시' 시트에 있는 내용을 복사ᆞ붙여넣기 하신 후 내용을 수정하시면 오류 없이 쉽게 발급하실 수 있습니다. > 오류발생시 '잘못된 예시' 시트에 있는 내용들을 참고하시면 대표적인 오류 원인을 확인할 수 있습니다. ○ 발급가능한 파일 확장자는 XLS, XLSX 입니다. ○ 일괄발급에 도움을 받고자 하시면 국세상담센터(국번없이 126번→ 1번 → 2번)로 문의주시기 바랍니다.
A6: 전자(세금)계산서 종류 (01:일반, 02:영세율) | B6: 작성일자 | C6: 공급자 등록번호 ("-" 없이 입력) | D6: 공급자 종사업장번호 | E6: 공급자 상호 | F6: 공급자 성명 | G6: 공급자 사업장주소 | H6: 공급자 업태 | I6: 공급자 종목 | J6: 공급자 이메일 | K6: 공급받는자 등록번호 ("-" 없이 입력) | L6: 공급받는자 종사업장번호 | M6: 공급받는자 상호 | N6: 공급받는자 성명 | O6: 공급받는자 사업장주소 | P6: 공급받는자 업태 | Q6: 공급받는자 종목 | R6: 공급받는자 이메일1 | S6: 공급받는자 이메일2 | T6: 공급가액 합계 | U6: 세액 합계 | V6: 비고 | W6: 일자1 (2자리, 작성년월 제외) | X6: 품목1 | Y6: 규격1 | Z6: 수량1 | AA6: 단가1 | AB6: 공급가액1 | AC6: 세액1 | AD6: 품목비고1 | AE6: 일자2 (2자리, 작성년월 제외) | AF6: 품목2 | AG6: 규격2 | AH6: 수량2 | AI6: 단가2 | AJ6: 공급가액2 | AK6: 세액2 | AL6: 품목비고2 | AM6: 일자3 (2자리, 작성년월 제외) | AN6: 품목3 | AO6: 규격3 | AP6: 수량3 | AQ6: 단가3 | AR6: 공급가액3 | AS6: 세액3 | AT6: 품목비고3 | AU6: 일자4 (2자리, 작성년월 제외) | AV6: 품목4 | AW6: 규격4 | AX6: 수량4 | AY6: 단가4 | AZ6: 공급가액4 | BA6: 세액4 | BB6: 품목비고4 | BC6: 현금 | BD6: 수표 | BE6: 어음 | BF6: 외상미수금 | BG6: 영수(01), 청구(02)
A7: =IF(작성!$B4="","",IF(작성!C4="영세율","02","01")) | B7: =IF(작성!$B4="","",IF(AND(ISNUMBER(작성!B4),작성!B4>=20000101,작성!B4<=29991231),TEXT(작성!B4,"0"),IF(AND(ISNUMBER(작성!B4),작성!B4>=36526,작성!B4<=73050),TEXT(작성!B4,"yyyymmdd"),IF(AND(NOT(ISNUMBER(작성!B4)),LEN(작성!B4)=8,ISNUMBER(VALUE(작성!B4))),작성!B4,"")))) | C7: =IF(작성!$B4="","",SUBSTITUTE(SUBSTITUTE(내정보!$B$3,"-","")," ","")) | D7: =IF(작성!$B4="","",내정보!$B$4) | E7: =IF(작성!$B4="","",내정보!$B$5) | F7: =IF(작성!$B4="","",내정보!$B$6) | G7: =IF(작성!$B4="","",내정보!$B$7) | H7: =IF(작성!$B4="","",내정보!$B$8) | I7: =IF(작성!$B4="","",내정보!$B$9) | J7: =IF(작성!$B4="","",내정보!$B$10) | K7: =IF(작성!$B4="","",SUBSTITUTE(SUBSTITUTE(IFERROR(VLOOKUP(SUBSTITUTE(SUBSTITUTE(SUBSTITUTE(작성!E4,"~","~~"),"*","~*"),"?","~?"),거래처!$A$4:$I$43,2,FALSE),""),"-","")," ","")) | L7: =IF(작성!$B4="","",IFERROR(VLOOKUP(SUBSTITUTE(SUBSTITUTE(SUBSTITUTE(작성!E4,"~","~~"),"*","~*"),"?","~?"),거래처!$A$4:$I$43,3,FALSE),"")) | M7: =IF(작성!$B4="","",IFERROR(VLOOKUP(SUBSTITUTE(SUBSTITUTE(SUBSTITUTE(작성!E4,"~","~~"),"*","~*"),"?","~?"),거래처!$A$4:$I$43,1,FALSE),"")) | N7: =IF(작성!$B4="","",IFERROR(VLOOKUP(SUBSTITUTE(SUBSTITUTE(SUBSTITUTE(작성!E4,"~","~~"),"*","~*"),"?","~?"),거래처!$A$4:$I$43,4,FALSE),"")) | O7: =IF(작성!$B4="","",IFERROR(VLOOKUP(SUBSTITUTE(SUBSTITUTE(SUBSTITUTE(작성!E4,"~","~~"),"*","~*"),"?","~?"),거래처!$A$4:$I$43,5,FALSE),"")) | P7: =IF(작성!$B4="","",IFERROR(VLOOKUP(SUBSTITUTE(SUBSTITUTE(SUBSTITUTE(작성!E4,"~","~~"),"*","~*"),"?","~?"),거래처!$A$4:$I$43,6,FALSE),"")) | Q7: =IF(작성!$B4="","",IFERROR(VLOOKUP(SUBSTITUTE(SUBSTITUTE(SUBSTITUTE(작성!E4,"~","~~"),"*","~*"),"?","~?"),거래처!$A$4:$I$43,7,FALSE),"")) | R7: =IF(작성!$B4="","",IFERROR(VLOOKUP(SUBSTITUTE(SUBSTITUTE(SUBSTITUTE(작성!E4,"~","~~"),"*","~*"),"?","~?"),거래처!$A$4:$I$43,8,FALSE),"")) | S7: =IF(작성!$B4="","",IFERROR(VLOOKUP(SUBSTITUTE(SUBSTITUTE(SUBSTITUTE(작성!E4,"~","~~"),"*","~*"),"?","~?"),거래처!$A$4:$I$43,9,FALSE),"")) | T7: =IF(작성!$B4="","",TEXT(작성!F4,"0")) | U7: =IF(작성!$B4="","",TEXT(작성!G4,"0")) | V7: =IF(작성!$B4="","",작성!H4) | W7: =IF(OR(작성!$B4="",작성!J4=""),"",TEXT(작성!I4,"00")) | X7: =IF(OR(작성!$B4="",작성!J4=""),"",작성!J4) | Y7: =IF(OR(작성!$B4="",작성!J4=""),"",작성!K4) | Z7: =IF(OR(작성!$B4="",작성!J4=""),"",IF(작성!L4=INT(작성!L4),TEXT(작성!L4,"0"),TEXT(작성!L4,"0.##"))) | AA7: =IF(OR(작성!$B4="",작성!J4=""),"",IF(작성!M4=INT(작성!M4),TEXT(작성!M4,"0"),TEXT(작성!M4,"0.##"))) | AB7: =IF(OR(작성!$B4="",작성!J4=""),"",TEXT(작성!N4,"0")) | AC7: =IF(OR(작성!$B4="",작성!J4=""),"",TEXT(작성!O4,"0")) | AD7: =IF(OR(작성!$B4="",작성!J4=""),"","") | AE7: =IF(OR(작성!$B4="",작성!Q4=""),"",TEXT(작성!P4,"00")) | AF7: =IF(OR(작성!$B4="",작성!Q4=""),"",작성!Q4) | AG7: =IF(OR(작성!$B4="",작성!Q4=""),"",작성!R4) | AH7: =IF(OR(작성!$B4="",작성!Q4=""),"",IF(작성!S4=INT(작성!S4),TEXT(작성!S4,"0"),TEXT(작성!S4,"0.##"))) | AI7: =IF(OR(작성!$B4="",작성!Q4=""),"",IF(작성!T4=INT(작성!T4),TEXT(작성!T4,"0"),TEXT(작성!T4,"0.##"))) | AJ7: =IF(OR(작성!$B4="",작성!Q4=""),"",TEXT(작성!U4,"0")) | AK7: =IF(OR(작성!$B4="",작성!Q4=""),"",TEXT(작성!V4,"0")) | AL7: =IF(OR(작성!$B4="",작성!Q4=""),"","") | AM7: =IF(OR(작성!$B4="",작성!X4=""),"",TEXT(작성!W4,"00")) | AN7: =IF(OR(작성!$B4="",작성!X4=""),"",작성!X4) | AO7: =IF(OR(작성!$B4="",작성!X4=""),"",작성!Y4) | AP7: =IF(OR(작성!$B4="",작성!X4=""),"",IF(작성!Z4=INT(작성!Z4),TEXT(작성!Z4,"0"),TEXT(작성!Z4,"0.##"))) | AQ7: =IF(OR(작성!$B4="",작성!X4=""),"",IF(작성!AA4=INT(작성!AA4),TEXT(작성!AA4,"0"),TEXT(작성!AA4,"0.##"))) | AR7: =IF(OR(작성!$B4="",작성!X4=""),"",TEXT(작성!AB4,"0")) | AS7: =IF(OR(작성!$B4="",작성!X4=""),"",TEXT(작성!AC4,"0")) | AT7: =IF(OR(작성!$B4="",작성!X4=""),"","") | AU7: =IF(OR(작성!$B4="",작성!AE4=""),"",TEXT(작성!AD4,"00")) | AV7: =IF(OR(작성!$B4="",작성!AE4=""),"",작성!AE4) | AW7: =IF(OR(작성!$B4="",작성!AE4=""),"",작성!AF4) | AX7: =IF(OR(작성!$B4="",작성!AE4=""),"",IF(작성!AG4=INT(작성!AG4),TEXT(작성!AG4,"0"),TEXT(작성!AG4,"0.##"))) | AY7: =IF(OR(작성!$B4="",작성!AE4=""),"",IF(작성!AH4=INT(작성!AH4),TEXT(작성!AH4,"0"),TEXT(작성!AH4,"0.##"))) | AZ7: =IF(OR(작성!$B4="",작성!AE4=""),"",TEXT(작성!AI4,"0")) | BA7: =IF(OR(작성!$B4="",작성!AE4=""),"",TEXT(작성!AJ4,"0")) | BB7: =IF(OR(작성!$B4="",작성!AE4=""),"","") | BC7: ="" | BD7: ="" | BE7: ="" | BF7: ="" | BG7: =IF(작성!$B4="","",IF(작성!D4="영수","01","02"))
A8: =IF(작성!$B5="","",IF(작성!C5="영세율","02","01")) | B8: =IF(작성!$B5="","",IF(AND(ISNUMBER(작성!B5),작성!B5>=20000101,작성!B5<=29991231),TEXT(작성!B5,"0"),IF(AND(ISNUMBER(작성!B5),작성!B5>=36526,작성!B5<=73050),TEXT(작성!B5,"yyyymmdd"),IF(AND(NOT(ISNUMBER(작성!B5)),LEN(작성!B5)=8,ISNUMBER(VALUE(작성!B5))),작성!B5,"")))) | C8: =IF(작성!$B5="","",SUBSTITUTE(SUBSTITUTE(내정보!$B$3,"-","")," ","")) | D8: =IF(작성!$B5="","",내정보!$B$4) | E8: =IF(작성!$B5="","",내정보!$B$5) | F8: =IF(작성!$B5="","",내정보!$B$6) | G8: =IF(작성!$B5="","",내정보!$B$7) | H8: =IF(작성!$B5="","",내정보!$B$8) | I8: =IF(작성!$B5="","",내정보!$B$9) | J8: =IF(작성!$B5="","",내정보!$B$10) | K8: =IF(작성!$B5="","",SUBSTITUTE(SUBSTITUTE(IFERROR(VLOOKUP(SUBSTITUTE(SUBSTITUTE(SUBSTITUTE(작성!E5,"~","~~"),"*","~*"),"?","~?"),거래처!$A$4:$I$43,2,FALSE),""),"-","")," ","")) | L8: =IF(작성!$B5="","",IFERROR(VLOOKUP(SUBSTITUTE(SUBSTITUTE(SUBSTITUTE(작성!E5,"~","~~"),"*","~*"),"?","~?"),거래처!$A$4:$I$43,3,FALSE),"")) | M8: =IF(작성!$B5="","",IFERROR(VLOOKUP(SUBSTITUTE(SUBSTITUTE(SUBSTITUTE(작성!E5,"~","~~"),"*","~*"),"?","~?"),거래처!$A$4:$I$43,1,FALSE),"")) | N8: =IF(작성!$B5="","",IFERROR(VLOOKUP(SUBSTITUTE(SUBSTITUTE(SUBSTITUTE(작성!E5,"~","~~"),"*","~*"),"?","~?"),거래처!$A$4:$I$43,4,FALSE),"")) | O8: =IF(작성!$B5="","",IFERROR(VLOOKUP(SUBSTITUTE(SUBSTITUTE(SUBSTITUTE(작성!E5,"~","~~"),"*","~*"),"?","~?"),거래처!$A$4:$I$43,5,FALSE),"")) | P8: =IF(작성!$B5="","",IFERROR(VLOOKUP(SUBSTITUTE(SUBSTITUTE(SUBSTITUTE(작성!E5,"~","~~"),"*","~*"),"?","~?"),거래처!$A$4:$I$43,6,FALSE),"")) | Q8: =IF(작성!$B5="","",IFERROR(VLOOKUP(SUBSTITUTE(SUBSTITUTE(SUBSTITUTE(작성!E5,"~","~~"),"*","~*"),"?","~?"),거래처!$A$4:$I$43,7,FALSE),"")) | R8: =IF(작성!$B5="","",IFERROR(VLOOKUP(SUBSTITUTE(SUBSTITUTE(SUBSTITUTE(작성!E5,"~","~~"),"*","~*"),"?","~?"),거래처!$A$4:$I$43,8,FALSE),"")) | S8: =IF(작성!$B5="","",IFERROR(VLOOKUP(SUBSTITUTE(SUBSTITUTE(SUBSTITUTE(작성!E5,"~","~~"),"*","~*"),"?","~?"),거래처!$A$4:$I$43,9,FALSE),"")) | T8: =IF(작성!$B5="","",TEXT(작성!F5,"0")) | U8: =IF(작성!$B5="","",TEXT(작성!G5,"0")) | V8: =IF(작성!$B5="","",작성!H5) | W8: =IF(OR(작성!$B5="",작성!J5=""),"",TEXT(작성!I5,"00")) | X8: =IF(OR(작성!$B5="",작성!J5=""),"",작성!J5) | Y8: =IF(OR(작성!$B5="",작성!J5=""),"",작성!K5) | Z8: =IF(OR(작성!$B5="",작성!J5=""),"",IF(작성!L5=INT(작성!L5),TEXT(작성!L5,"0"),TEXT(작성!L5,"0.##"))) | AA8: =IF(OR(작성!$B5="",작성!J5=""),"",IF(작성!M5=INT(작성!M5),TEXT(작성!M5,"0"),TEXT(작성!M5,"0.##"))) | AB8: =IF(OR(작성!$B5="",작성!J5=""),"",TEXT(작성!N5,"0")) | AC8: =IF(OR(작성!$B5="",작성!J5=""),"",TEXT(작성!O5,"0")) | AD8: =IF(OR(작성!$B5="",작성!J5=""),"","") | AE8: =IF(OR(작성!$B5="",작성!Q5=""),"",TEXT(작성!P5,"00")) | AF8: =IF(OR(작성!$B5="",작성!Q5=""),"",작성!Q5) | AG8: =IF(OR(작성!$B5="",작성!Q5=""),"",작성!R5) | AH8: =IF(OR(작성!$B5="",작성!Q5=""),"",IF(작성!S5=INT(작성!S5),TEXT(작성!S5,"0"),TEXT(작성!S5,"0.##"))) | AI8: =IF(OR(작성!$B5="",작성!Q5=""),"",IF(작성!T5=INT(작성!T5),TEXT(작성!T5,"0"),TEXT(작성!T5,"0.##"))) | AJ8: =IF(OR(작성!$B5="",작성!Q5=""),"",TEXT(작성!U5,"0")) | AK8: =IF(OR(작성!$B5="",작성!Q5=""),"",TEXT(작성!V5,"0")) | AL8: =IF(OR(작성!$B5="",작성!Q5=""),"","") | AM8: =IF(OR(작성!$B5="",작성!X5=""),"",TEXT(작성!W5,"00")) | AN8: =IF(OR(작성!$B5="",작성!X5=""),"",작성!X5) | AO8: =IF(OR(작성!$B5="",작성!X5=""),"",작성!Y5) | AP8: =IF(OR(작성!$B5="",작성!X5=""),"",IF(작성!Z5=INT(작성!Z5),TEXT(작성!Z5,"0"),TEXT(작성!Z5,"0.##"))) | AQ8: =IF(OR(작성!$B5="",작성!X5=""),"",IF(작성!AA5=INT(작성!AA5),TEXT(작성!AA5,"0"),TEXT(작성!AA5,"0.##"))) | AR8: =IF(OR(작성!$B5="",작성!X5=""),"",TEXT(작성!AB5,"0")) | AS8: =IF(OR(작성!$B5="",작성!X5=""),"",TEXT(작성!AC5,"0")) | AT8: =IF(OR(작성!$B5="",작성!X5=""),"","") | AU8: =IF(OR(작성!$B5="",작성!AE5=""),"",TEXT(작성!AD5,"00")) | AV8: =IF(OR(작성!$B5="",작성!AE5=""),"",작성!AE5) | AW8: =IF(OR(작성!$B5="",작성!AE5=""),"",작성!AF5) | AX8: =IF(OR(작성!$B5="",작성!AE5=""),"",IF(작성!AG5=INT(작성!AG5),TEXT(작성!AG5,"0"),TEXT(작성!AG5,"0.##"))) | AY8: =IF(OR(작성!$B5="",작성!AE5=""),"",IF(작성!AH5=INT(작성!AH5),TEXT(작성!AH5,"0"),TEXT(작성!AH5,"0.##"))) | AZ8: =IF(OR(작성!$B5="",작성!AE5=""),"",TEXT(작성!AI5,"0")) | BA8: =IF(OR(작성!$B5="",작성!AE5=""),"",TEXT(작성!AJ5,"0")) | BB8: =IF(OR(작성!$B5="",작성!AE5=""),"","") | BC8: ="" | BD8: ="" | BE8: ="" | BF8: ="" | BG8: =IF(작성!$B5="","",IF(작성!D5="영수","01","02"))
A9: =IF(작성!$B6="","",IF(작성!C6="영세율","02","01")) | B9: =IF(작성!$B6="","",IF(AND(ISNUMBER(작성!B6),작성!B6>=20000101,작성!B6<=29991231),TEXT(작성!B6,"0"),IF(AND(ISNUMBER(작성!B6),작성!B6>=36526,작성!B6<=73050),TEXT(작성!B6,"yyyymmdd"),IF(AND(NOT(ISNUMBER(작성!B6)),LEN(작성!B6)=8,ISNUMBER(VALUE(작성!B6))),작성!B6,"")))) | C9: =IF(작성!$B6="","",SUBSTITUTE(SUBSTITUTE(내정보!$B$3,"-","")," ","")) | D9: =IF(작성!$B6="","",내정보!$B$4) | E9: =IF(작성!$B6="","",내정보!$B$5) | F9: =IF(작성!$B6="","",내정보!$B$6) | G9: =IF(작성!$B6="","",내정보!$B$7) | H9: =IF(작성!$B6="","",내정보!$B$8) | I9: =IF(작성!$B6="","",내정보!$B$9) | J9: =IF(작성!$B6="","",내정보!$B$10) | K9: =IF(작성!$B6="","",SUBSTITUTE(SUBSTITUTE(IFERROR(VLOOKUP(SUBSTITUTE(SUBSTITUTE(SUBSTITUTE(작성!E6,"~","~~"),"*","~*"),"?","~?"),거래처!$A$4:$I$43,2,FALSE),""),"-","")," ","")) | L9: =IF(작성!$B6="","",IFERROR(VLOOKUP(SUBSTITUTE(SUBSTITUTE(SUBSTITUTE(작성!E6,"~","~~"),"*","~*"),"?","~?"),거래처!$A$4:$I$43,3,FALSE),"")) | M9: =IF(작성!$B6="","",IFERROR(VLOOKUP(SUBSTITUTE(SUBSTITUTE(SUBSTITUTE(작성!E6,"~","~~"),"*","~*"),"?","~?"),거래처!$A$4:$I$43,1,FALSE),"")) | N9: =IF(작성!$B6="","",IFERROR(VLOOKUP(SUBSTITUTE(SUBSTITUTE(SUBSTITUTE(작성!E6,"~","~~"),"*","~*"),"?","~?"),거래처!$A$4:$I$43,4,FALSE),"")) | O9: =IF(작성!$B6="","",IFERROR(VLOOKUP(SUBSTITUTE(SUBSTITUTE(SUBSTITUTE(작성!E6,"~","~~"),"*","~*"),"?","~?"),거래처!$A$4:$I$43,5,FALSE),"")) | P9: =IF(작성!$B6="","",IFERROR(VLOOKUP(SUBSTITUTE(SUBSTITUTE(SUBSTITUTE(작성!E6,"~","~~"),"*","~*"),"?","~?"),거래처!$A$4:$I$43,6,FALSE),"")) | Q9: =IF(작성!$B6="","",IFERROR(VLOOKUP(SUBSTITUTE(SUBSTITUTE(SUBSTITUTE(작성!E6,"~","~~"),"*","~*"),"?","~?"),거래처!$A$4:$I$43,7,FALSE),"")) | R9: =IF(작성!$B6="","",IFERROR(VLOOKUP(SUBSTITUTE(SUBSTITUTE(SUBSTITUTE(작성!E6,"~","~~"),"*","~*"),"?","~?"),거래처!$A$4:$I$43,8,FALSE),"")) | S9: =IF(작성!$B6="","",IFERROR(VLOOKUP(SUBSTITUTE(SUBSTITUTE(SUBSTITUTE(작성!E6,"~","~~"),"*","~*"),"?","~?"),거래처!$A$4:$I$43,9,FALSE),"")) | T9: =IF(작성!$B6="","",TEXT(작성!F6,"0")) | U9: =IF(작성!$B6="","",TEXT(작성!G6,"0")) | V9: =IF(작성!$B6="","",작성!H6) | W9: =IF(OR(작성!$B6="",작성!J6=""),"",TEXT(작성!I6,"00")) | X9: =IF(OR(작성!$B6="",작성!J6=""),"",작성!J6) | Y9: =IF(OR(작성!$B6="",작성!J6=""),"",작성!K6) | Z9: =IF(OR(작성!$B6="",작성!J6=""),"",IF(작성!L6=INT(작성!L6),TEXT(작성!L6,"0"),TEXT(작성!L6,"0.##"))) | AA9: =IF(OR(작성!$B6="",작성!J6=""),"",IF(작성!M6=INT(작성!M6),TEXT(작성!M6,"0"),TEXT(작성!M6,"0.##"))) | AB9: =IF(OR(작성!$B6="",작성!J6=""),"",TEXT(작성!N6,"0")) | AC9: =IF(OR(작성!$B6="",작성!J6=""),"",TEXT(작성!O6,"0")) | AD9: =IF(OR(작성!$B6="",작성!J6=""),"","") | AE9: =IF(OR(작성!$B6="",작성!Q6=""),"",TEXT(작성!P6,"00")) | AF9: =IF(OR(작성!$B6="",작성!Q6=""),"",작성!Q6) | AG9: =IF(OR(작성!$B6="",작성!Q6=""),"",작성!R6) | AH9: =IF(OR(작성!$B6="",작성!Q6=""),"",IF(작성!S6=INT(작성!S6),TEXT(작성!S6,"0"),TEXT(작성!S6,"0.##"))) | AI9: =IF(OR(작성!$B6="",작성!Q6=""),"",IF(작성!T6=INT(작성!T6),TEXT(작성!T6,"0"),TEXT(작성!T6,"0.##"))) | AJ9: =IF(OR(작성!$B6="",작성!Q6=""),"",TEXT(작성!U6,"0")) | AK9: =IF(OR(작성!$B6="",작성!Q6=""),"",TEXT(작성!V6,"0")) | AL9: =IF(OR(작성!$B6="",작성!Q6=""),"","") | AM9: =IF(OR(작성!$B6="",작성!X6=""),"",TEXT(작성!W6,"00")) | AN9: =IF(OR(작성!$B6="",작성!X6=""),"",작성!X6) | AO9: =IF(OR(작성!$B6="",작성!X6=""),"",작성!Y6) | AP9: =IF(OR(작성!$B6="",작성!X6=""),"",IF(작성!Z6=INT(작성!Z6),TEXT(작성!Z6,"0"),TEXT(작성!Z6,"0.##"))) | AQ9: =IF(OR(작성!$B6="",작성!X6=""),"",IF(작성!AA6=INT(작성!AA6),TEXT(작성!AA6,"0"),TEXT(작성!AA6,"0.##"))) | AR9: =IF(OR(작성!$B6="",작성!X6=""),"",TEXT(작성!AB6,"0")) | AS9: =IF(OR(작성!$B6="",작성!X6=""),"",TEXT(작성!AC6,"0")) | AT9: =IF(OR(작성!$B6="",작성!X6=""),"","") | AU9: =IF(OR(작성!$B6="",작성!AE6=""),"",TEXT(작성!AD6,"00")) | AV9: =IF(OR(작성!$B6="",작성!AE6=""),"",작성!AE6) | AW9: =IF(OR(작성!$B6="",작성!AE6=""),"",작성!AF6) | AX9: =IF(OR(작성!$B6="",작성!AE6=""),"",IF(작성!AG6=INT(작성!AG6),TEXT(작성!AG6,"0"),TEXT(작성!AG6,"0.##"))) | AY9: =IF(OR(작성!$B6="",작성!AE6=""),"",IF(작성!AH6=INT(작성!AH6),TEXT(작성!AH6,"0"),TEXT(작성!AH6,"0.##"))) | AZ9: =IF(OR(작성!$B6="",작성!AE6=""),"",TEXT(작성!AI6,"0")) | BA9: =IF(OR(작성!$B6="",작성!AE6=""),"",TEXT(작성!AJ6,"0")) | BB9: =IF(OR(작성!$B6="",작성!AE6=""),"","") | BC9: ="" | BD9: ="" | BE9: ="" | BF9: ="" | BG9: =IF(작성!$B6="","",IF(작성!D6="영수","01","02"))
A10: =IF(작성!$B7="","",IF(작성!C7="영세율","02","01")) | B10: =IF(작성!$B7="","",IF(AND(ISNUMBER(작성!B7),작성!B7>=20000101,작성!B7<=29991231),TEXT(작성!B7,"0"),IF(AND(ISNUMBER(작성!B7),작성!B7>=36526,작성!B7<=73050),TEXT(작성!B7,"yyyymmdd"),IF(AND(NOT(ISNUMBER(작성!B7)),LEN(작성!B7)=8,ISNUMBER(VALUE(작성!B7))),작성!B7,"")))) | C10: =IF(작성!$B7="","",SUBSTITUTE(SUBSTITUTE(내정보!$B$3,"-","")," ","")) | D10: =IF(작성!$B7="","",내정보!$B$4) | E10: =IF(작성!$B7="","",내정보!$B$5) | F10: =IF(작성!$B7="","",내정보!$B$6) | G10: =IF(작성!$B7="","",내정보!$B$7) | H10: =IF(작성!$B7="","",내정보!$B$8) | I10: =IF(작성!$B7="","",내정보!$B$9) | J10: =IF(작성!$B7="","",내정보!$B$10) | K10: =IF(작성!$B7="","",SUBSTITUTE(SUBSTITUTE(IFERROR(VLOOKUP(SUBSTITUTE(SUBSTITUTE(SUBSTITUTE(작성!E7,"~","~~"),"*","~*"),"?","~?"),거래처!$A$4:$I$43,2,FALSE),""),"-","")," ","")) | L10: =IF(작성!$B7="","",IFERROR(VLOOKUP(SUBSTITUTE(SUBSTITUTE(SUBSTITUTE(작성!E7,"~","~~"),"*","~*"),"?","~?"),거래처!$A$4:$I$43,3,FALSE),"")) | M10: =IF(작성!$B7="","",IFERROR(VLOOKUP(SUBSTITUTE(SUBSTITUTE(SUBSTITUTE(작성!E7,"~","~~"),"*","~*"),"?","~?"),거래처!$A$4:$I$43,1,FALSE),"")) | N10: =IF(작성!$B7="","",IFERROR(VLOOKUP(SUBSTITUTE(SUBSTITUTE(SUBSTITUTE(작성!E7,"~","~~"),"*","~*"),"?","~?"),거래처!$A$4:$I$43,4,FALSE),"")) | O10: =IF(작성!$B7="","",IFERROR(VLOOKUP(SUBSTITUTE(SUBSTITUTE(SUBSTITUTE(작성!E7,"~","~~"),"*","~*"),"?","~?"),거래처!$A$4:$I$43,5,FALSE),"")) | P10: =IF(작성!$B7="","",IFERROR(VLOOKUP(SUBSTITUTE(SUBSTITUTE(SUBSTITUTE(작성!E7,"~","~~"),"*","~*"),"?","~?"),거래처!$A$4:$I$43,6,FALSE),"")) | Q10: =IF(작성!$B7="","",IFERROR(VLOOKUP(SUBSTITUTE(SUBSTITUTE(SUBSTITUTE(작성!E7,"~","~~"),"*","~*"),"?","~?"),거래처!$A$4:$I$43,7,FALSE),"")) | R10: =IF(작성!$B7="","",IFERROR(VLOOKUP(SUBSTITUTE(SUBSTITUTE(SUBSTITUTE(작성!E7,"~","~~"),"*","~*"),"?","~?"),거래처!$A$4:$I$43,8,FALSE),"")) | S10: =IF(작성!$B7="","",IFERROR(VLOOKUP(SUBSTITUTE(SUBSTITUTE(SUBSTITUTE(작성!E7,"~","~~"),"*","~*"),"?","~?"),거래처!$A$4:$I$43,9,FALSE),"")) | T10: =IF(작성!$B7="","",TEXT(작성!F7,"0")) | U10: =IF(작성!$B7="","",TEXT(작성!G7,"0")) | V10: =IF(작성!$B7="","",작성!H7) | W10: =IF(OR(작성!$B7="",작성!J7=""),"",TEXT(작성!I7,"00")) | X10: =IF(OR(작성!$B7="",작성!J7=""),"",작성!J7) | Y10: =IF(OR(작성!$B7="",작성!J7=""),"",작성!K7) | Z10: =IF(OR(작성!$B7="",작성!J7=""),"",IF(작성!L7=INT(작성!L7),TEXT(작성!L7,"0"),TEXT(작성!L7,"0.##"))) | AA10: =IF(OR(작성!$B7="",작성!J7=""),"",IF(작성!M7=INT(작성!M7),TEXT(작성!M7,"0"),TEXT(작성!M7,"0.##"))) | AB10: =IF(OR(작성!$B7="",작성!J7=""),"",TEXT(작성!N7,"0")) | AC10: =IF(OR(작성!$B7="",작성!J7=""),"",TEXT(작성!O7,"0")) | AD10: =IF(OR(작성!$B7="",작성!J7=""),"","") | AE10: =IF(OR(작성!$B7="",작성!Q7=""),"",TEXT(작성!P7,"00")) | AF10: =IF(OR(작성!$B7="",작성!Q7=""),"",작성!Q7) | AG10: =IF(OR(작성!$B7="",작성!Q7=""),"",작성!R7) | AH10: =IF(OR(작성!$B7="",작성!Q7=""),"",IF(작성!S7=INT(작성!S7),TEXT(작성!S7,"0"),TEXT(작성!S7,"0.##"))) | AI10: =IF(OR(작성!$B7="",작성!Q7=""),"",IF(작성!T7=INT(작성!T7),TEXT(작성!T7,"0"),TEXT(작성!T7,"0.##"))) | AJ10: =IF(OR(작성!$B7="",작성!Q7=""),"",TEXT(작성!U7,"0")) | AK10: =IF(OR(작성!$B7="",작성!Q7=""),"",TEXT(작성!V7,"0")) | AL10: =IF(OR(작성!$B7="",작성!Q7=""),"","") | AM10: =IF(OR(작성!$B7="",작성!X7=""),"",TEXT(작성!W7,"00")) | AN10: =IF(OR(작성!$B7="",작성!X7=""),"",작성!X7) | AO10: =IF(OR(작성!$B7="",작성!X7=""),"",작성!Y7) | AP10: =IF(OR(작성!$B7="",작성!X7=""),"",IF(작성!Z7=INT(작성!Z7),TEXT(작성!Z7,"0"),TEXT(작성!Z7,"0.##"))) | AQ10: =IF(OR(작성!$B7="",작성!X7=""),"",IF(작성!AA7=INT(작성!AA7),TEXT(작성!AA7,"0"),TEXT(작성!AA7,"0.##"))) | AR10: =IF(OR(작성!$B7="",작성!X7=""),"",TEXT(작성!AB7,"0")) | AS10: =IF(OR(작성!$B7="",작성!X7=""),"",TEXT(작성!AC7,"0")) | AT10: =IF(OR(작성!$B7="",작성!X7=""),"","") | AU10: =IF(OR(작성!$B7="",작성!AE7=""),"",TEXT(작성!AD7,"00")) | AV10: =IF(OR(작성!$B7="",작성!AE7=""),"",작성!AE7) | AW10: =IF(OR(작성!$B7="",작성!AE7=""),"",작성!AF7) | AX10: =IF(OR(작성!$B7="",작성!AE7=""),"",IF(작성!AG7=INT(작성!AG7),TEXT(작성!AG7,"0"),TEXT(작성!AG7,"0.##"))) | AY10: =IF(OR(작성!$B7="",작성!AE7=""),"",IF(작성!AH7=INT(작성!AH7),TEXT(작성!AH7,"0"),TEXT(작성!AH7,"0.##"))) | AZ10: =IF(OR(작성!$B7="",작성!AE7=""),"",TEXT(작성!AI7,"0")) | BA10: =IF(OR(작성!$B7="",작성!AE7=""),"",TEXT(작성!AJ7,"0")) | BB10: =IF(OR(작성!$B7="",작성!AE7=""),"","") | BC10: ="" | BD10: ="" | BE10: ="" | BF10: ="" | BG10: =IF(작성!$B7="","",IF(작성!D7="영수","01","02"))
A11: =IF(작성!$B8="","",IF(작성!C8="영세율","02","01")) | B11: =IF(작성!$B8="","",IF(AND(ISNUMBER(작성!B8),작성!B8>=20000101,작성!B8<=29991231),TEXT(작성!B8,"0"),IF(AND(ISNUMBER(작성!B8),작성!B8>=36526,작성!B8<=73050),TEXT(작성!B8,"yyyymmdd"),IF(AND(NOT(ISNUMBER(작성!B8)),LEN(작성!B8)=8,ISNUMBER(VALUE(작성!B8))),작성!B8,"")))) | C11: =IF(작성!$B8="","",SUBSTITUTE(SUBSTITUTE(내정보!$B$3,"-","")," ","")) | D11: =IF(작성!$B8="","",내정보!$B$4) | E11: =IF(작성!$B8="","",내정보!$B$5) | F11: =IF(작성!$B8="","",내정보!$B$6) | G11: =IF(작성!$B8="","",내정보!$B$7) | H11: =IF(작성!$B8="","",내정보!$B$8) | I11: =IF(작성!$B8="","",내정보!$B$9) | J11: =IF(작성!$B8="","",내정보!$B$10) | K11: =IF(작성!$B8="","",SUBSTITUTE(SUBSTITUTE(IFERROR(VLOOKUP(SUBSTITUTE(SUBSTITUTE(SUBSTITUTE(작성!E8,"~","~~"),"*","~*"),"?","~?"),거래처!$A$4:$I$43,2,FALSE),""),"-","")," ","")) | L11: =IF(작성!$B8="","",IFERROR(VLOOKUP(SUBSTITUTE(SUBSTITUTE(SUBSTITUTE(작성!E8,"~","~~"),"*","~*"),"?","~?"),거래처!$A$4:$I$43,3,FALSE),"")) | M11: =IF(작성!$B8="","",IFERROR(VLOOKUP(SUBSTITUTE(SUBSTITUTE(SUBSTITUTE(작성!E8,"~","~~"),"*","~*"),"?","~?"),거래처!$A$4:$I$43,1,FALSE),"")) | N11: =IF(작성!$B8="","",IFERROR(VLOOKUP(SUBSTITUTE(SUBSTITUTE(SUBSTITUTE(작성!E8,"~","~~"),"*","~*"),"?","~?"),거래처!$A$4:$I$43,4,FALSE),"")) | O11: =IF(작성!$B8="","",IFERROR(VLOOKUP(SUBSTITUTE(SUBSTITUTE(SUBSTITUTE(작성!E8,"~","~~"),"*","~*"),"?","~?"),거래처!$A$4:$I$43,5,FALSE),"")) | P11: =IF(작성!$B8="","",IFERROR(VLOOKUP(SUBSTITUTE(SUBSTITUTE(SUBSTITUTE(작성!E8,"~","~~"),"*","~*"),"?","~?"),거래처!$A$4:$I$43,6,FALSE),"")) | Q11: =IF(작성!$B8="","",IFERROR(VLOOKUP(SUBSTITUTE(SUBSTITUTE(SUBSTITUTE(작성!E8,"~","~~"),"*","~*"),"?","~?"),거래처!$A$4:$I$43,7,FALSE),"")) | R11: =IF(작성!$B8="","",IFERROR(VLOOKUP(SUBSTITUTE(SUBSTITUTE(SUBSTITUTE(작성!E8,"~","~~"),"*","~*"),"?","~?"),거래처!$A$4:$I$43,8,FALSE),"")) | S11: =IF(작성!$B8="","",IFERROR(VLOOKUP(SUBSTITUTE(SUBSTITUTE(SUBSTITUTE(작성!E8,"~","~~"),"*","~*"),"?","~?"),거래처!$A$4:$I$43,9,FALSE),"")) | T11: =IF(작성!$B8="","",TEXT(작성!F8,"0")) | U11: =IF(작성!$B8="","",TEXT(작성!G8,"0")) | V11: =IF(작성!$B8="","",작성!H8) | W11: =IF(OR(작성!$B8="",작성!J8=""),"",TEXT(작성!I8,"00")) | X11: =IF(OR(작성!$B8="",작성!J8=""),"",작성!J8) | Y11: =IF(OR(작성!$B8="",작성!J8=""),"",작성!K8) | Z11: =IF(OR(작성!$B8="",작성!J8=""),"",IF(작성!L8=INT(작성!L8),TEXT(작성!L8,"0"),TEXT(작성!L8,"0.##"))) | AA11: =IF(OR(작성!$B8="",작성!J8=""),"",IF(작성!M8=INT(작성!M8),TEXT(작성!M8,"0"),TEXT(작성!M8,"0.##"))) | AB11: =IF(OR(작성!$B8="",작성!J8=""),"",TEXT(작성!N8,"0")) | AC11: =IF(OR(작성!$B8="",작성!J8=""),"",TEXT(작성!O8,"0")) | AD11: =IF(OR(작성!$B8="",작성!J8=""),"","") | AE11: =IF(OR(작성!$B8="",작성!Q8=""),"",TEXT(작성!P8,"00")) | AF11: =IF(OR(작성!$B8="",작성!Q8=""),"",작성!Q8) | AG11: =IF(OR(작성!$B8="",작성!Q8=""),"",작성!R8) | AH11: =IF(OR(작성!$B8="",작성!Q8=""),"",IF(작성!S8=INT(작성!S8),TEXT(작성!S8,"0"),TEXT(작성!S8,"0.##"))) | AI11: =IF(OR(작성!$B8="",작성!Q8=""),"",IF(작성!T8=INT(작성!T8),TEXT(작성!T8,"0"),TEXT(작성!T8,"0.##"))) | AJ11: =IF(OR(작성!$B8="",작성!Q8=""),"",TEXT(작성!U8,"0")) | AK11: =IF(OR(작성!$B8="",작성!Q8=""),"",TEXT(작성!V8,"0")) | AL11: =IF(OR(작성!$B8="",작성!Q8=""),"","") | AM11: =IF(OR(작성!$B8="",작성!X8=""),"",TEXT(작성!W8,"00")) | AN11: =IF(OR(작성!$B8="",작성!X8=""),"",작성!X8) | AO11: =IF(OR(작성!$B8="",작성!X8=""),"",작성!Y8) | AP11: =IF(OR(작성!$B8="",작성!X8=""),"",IF(작성!Z8=INT(작성!Z8),TEXT(작성!Z8,"0"),TEXT(작성!Z8,"0.##"))) | AQ11: =IF(OR(작성!$B8="",작성!X8=""),"",IF(작성!AA8=INT(작성!AA8),TEXT(작성!AA8,"0"),TEXT(작성!AA8,"0.##"))) | AR11: =IF(OR(작성!$B8="",작성!X8=""),"",TEXT(작성!AB8,"0")) | AS11: =IF(OR(작성!$B8="",작성!X8=""),"",TEXT(작성!AC8,"0")) | AT11: =IF(OR(작성!$B8="",작성!X8=""),"","") | AU11: =IF(OR(작성!$B8="",작성!AE8=""),"",TEXT(작성!AD8,"00")) | AV11: =IF(OR(작성!$B8="",작성!AE8=""),"",작성!AE8) | AW11: =IF(OR(작성!$B8="",작성!AE8=""),"",작성!AF8) | AX11: =IF(OR(작성!$B8="",작성!AE8=""),"",IF(작성!AG8=INT(작성!AG8),TEXT(작성!AG8,"0"),TEXT(작성!AG8,"0.##"))) | AY11: =IF(OR(작성!$B8="",작성!AE8=""),"",IF(작성!AH8=INT(작성!AH8),TEXT(작성!AH8,"0"),TEXT(작성!AH8,"0.##"))) | AZ11: =IF(OR(작성!$B8="",작성!AE8=""),"",TEXT(작성!AI8,"0")) | BA11: =IF(OR(작성!$B8="",작성!AE8=""),"",TEXT(작성!AJ8,"0")) | BB11: =IF(OR(작성!$B8="",작성!AE8=""),"","") | BC11: ="" | BD11: ="" | BE11: ="" | BF11: ="" | BG11: =IF(작성!$B8="","",IF(작성!D8="영수","01","02"))
A12: =IF(작성!$B9="","",IF(작성!C9="영세율","02","01")) | B12: =IF(작성!$B9="","",IF(AND(ISNUMBER(작성!B9),작성!B9>=20000101,작성!B9<=29991231),TEXT(작성!B9,"0"),IF(AND(ISNUMBER(작성!B9),작성!B9>=36526,작성!B9<=73050),TEXT(작성!B9,"yyyymmdd"),IF(AND(NOT(ISNUMBER(작성!B9)),LEN(작성!B9)=8,ISNUMBER(VALUE(작성!B9))),작성!B9,"")))) | C12: =IF(작성!$B9="","",SUBSTITUTE(SUBSTITUTE(내정보!$B$3,"-","")," ","")) | D12: =IF(작성!$B9="","",내정보!$B$4) | E12: =IF(작성!$B9="","",내정보!$B$5) | F12: =IF(작성!$B9="","",내정보!$B$6) | G12: =IF(작성!$B9="","",내정보!$B$7) | H12: =IF(작성!$B9="","",내정보!$B$8) | I12: =IF(작성!$B9="","",내정보!$B$9) | J12: =IF(작성!$B9="","",내정보!$B$10) | K12: =IF(작성!$B9="","",SUBSTITUTE(SUBSTITUTE(IFERROR(VLOOKUP(SUBSTITUTE(SUBSTITUTE(SUBSTITUTE(작성!E9,"~","~~"),"*","~*"),"?","~?"),거래처!$A$4:$I$43,2,FALSE),""),"-","")," ","")) | L12: =IF(작성!$B9="","",IFERROR(VLOOKUP(SUBSTITUTE(SUBSTITUTE(SUBSTITUTE(작성!E9,"~","~~"),"*","~*"),"?","~?"),거래처!$A$4:$I$43,3,FALSE),"")) | M12: =IF(작성!$B9="","",IFERROR(VLOOKUP(SUBSTITUTE(SUBSTITUTE(SUBSTITUTE(작성!E9,"~","~~"),"*","~*"),"?","~?"),거래처!$A$4:$I$43,1,FALSE),"")) | N12: =IF(작성!$B9="","",IFERROR(VLOOKUP(SUBSTITUTE(SUBSTITUTE(SUBSTITUTE(작성!E9,"~","~~"),"*","~*"),"?","~?"),거래처!$A$4:$I$43,4,FALSE),"")) | O12: =IF(작성!$B9="","",IFERROR(VLOOKUP(SUBSTITUTE(SUBSTITUTE(SUBSTITUTE(작성!E9,"~","~~"),"*","~*"),"?","~?"),거래처!$A$4:$I$43,5,FALSE),"")) | P12: =IF(작성!$B9="","",IFERROR(VLOOKUP(SUBSTITUTE(SUBSTITUTE(SUBSTITUTE(작성!E9,"~","~~"),"*","~*"),"?","~?"),거래처!$A$4:$I$43,6,FALSE),"")) | Q12: =IF(작성!$B9="","",IFERROR(VLOOKUP(SUBSTITUTE(SUBSTITUTE(SUBSTITUTE(작성!E9,"~","~~"),"*","~*"),"?","~?"),거래처!$A$4:$I$43,7,FALSE),"")) | R12: =IF(작성!$B9="","",IFERROR(VLOOKUP(SUBSTITUTE(SUBSTITUTE(SUBSTITUTE(작성!E9,"~","~~"),"*","~*"),"?","~?"),거래처!$A$4:$I$43,8,FALSE),"")) | S12: =IF(작성!$B9="","",IFERROR(VLOOKUP(SUBSTITUTE(SUBSTITUTE(SUBSTITUTE(작성!E9,"~","~~"),"*","~*"),"?","~?"),거래처!$A$4:$I$43,9,FALSE),"")) | T12: =IF(작성!$B9="","",TEXT(작성!F9,"0")) | U12: =IF(작성!$B9="","",TEXT(작성!G9,"0")) | V12: =IF(작성!$B9="","",작성!H9) | W12: =IF(OR(작성!$B9="",작성!J9=""),"",TEXT(작성!I9,"00")) | X12: =IF(OR(작성!$B9="",작성!J9=""),"",작성!J9) | Y12: =IF(OR(작성!$B9="",작성!J9=""),"",작성!K9) | Z12: =IF(OR(작성!$B9="",작성!J9=""),"",IF(작성!L9=INT(작성!L9),TEXT(작성!L9,"0"),TEXT(작성!L9,"0.##"))) | AA12: =IF(OR(작성!$B9="",작성!J9=""),"",IF(작성!M9=INT(작성!M9),TEXT(작성!M9,"0"),TEXT(작성!M9,"0.##"))) | AB12: =IF(OR(작성!$B9="",작성!J9=""),"",TEXT(작성!N9,"0")) | AC12: =IF(OR(작성!$B9="",작성!J9=""),"",TEXT(작성!O9,"0")) | AD12: =IF(OR(작성!$B9="",작성!J9=""),"","") | AE12: =IF(OR(작성!$B9="",작성!Q9=""),"",TEXT(작성!P9,"00")) | AF12: =IF(OR(작성!$B9="",작성!Q9=""),"",작성!Q9) | AG12: =IF(OR(작성!$B9="",작성!Q9=""),"",작성!R9) | AH12: =IF(OR(작성!$B9="",작성!Q9=""),"",IF(작성!S9=INT(작성!S9),TEXT(작성!S9,"0"),TEXT(작성!S9,"0.##"))) | AI12: =IF(OR(작성!$B9="",작성!Q9=""),"",IF(작성!T9=INT(작성!T9),TEXT(작성!T9,"0"),TEXT(작성!T9,"0.##"))) | AJ12: =IF(OR(작성!$B9="",작성!Q9=""),"",TEXT(작성!U9,"0")) | AK12: =IF(OR(작성!$B9="",작성!Q9=""),"",TEXT(작성!V9,"0")) | AL12: =IF(OR(작성!$B9="",작성!Q9=""),"","") | AM12: =IF(OR(작성!$B9="",작성!X9=""),"",TEXT(작성!W9,"00")) | AN12: =IF(OR(작성!$B9="",작성!X9=""),"",작성!X9) | AO12: =IF(OR(작성!$B9="",작성!X9=""),"",작성!Y9) | AP12: =IF(OR(작성!$B9="",작성!X9=""),"",IF(작성!Z9=INT(작성!Z9),TEXT(작성!Z9,"0"),TEXT(작성!Z9,"0.##"))) | AQ12: =IF(OR(작성!$B9="",작성!X9=""),"",IF(작성!AA9=INT(작성!AA9),TEXT(작성!AA9,"0"),TEXT(작성!AA9,"0.##"))) | AR12: =IF(OR(작성!$B9="",작성!X9=""),"",TEXT(작성!AB9,"0")) | AS12: =IF(OR(작성!$B9="",작성!X9=""),"",TEXT(작성!AC9,"0")) | AT12: =IF(OR(작성!$B9="",작성!X9=""),"","") | AU12: =IF(OR(작성!$B9="",작성!AE9=""),"",TEXT(작성!AD9,"00")) | AV12: =IF(OR(작성!$B9="",작성!AE9=""),"",작성!AE9) | AW12: =IF(OR(작성!$B9="",작성!AE9=""),"",작성!AF9) | AX12: =IF(OR(작성!$B9="",작성!AE9=""),"",IF(작성!AG9=INT(작성!AG9),TEXT(작성!AG9,"0"),TEXT(작성!AG9,"0.##"))) | AY12: =IF(OR(작성!$B9="",작성!AE9=""),"",IF(작성!AH9=INT(작성!AH9),TEXT(작성!AH9,"0"),TEXT(작성!AH9,"0.##"))) | AZ12: =IF(OR(작성!$B9="",작성!AE9=""),"",TEXT(작성!AI9,"0")) | BA12: =IF(OR(작성!$B9="",작성!AE9=""),"",TEXT(작성!AJ9,"0")) | BB12: =IF(OR(작성!$B9="",작성!AE9=""),"","") | BC12: ="" | BD12: ="" | BE12: ="" | BF12: ="" | BG12: =IF(작성!$B9="","",IF(작성!D9="영수","01","02"))
A13: =IF(작성!$B10="","",IF(작성!C10="영세율","02","01")) | B13: =IF(작성!$B10="","",IF(AND(ISNUMBER(작성!B10),작성!B10>=20000101,작성!B10<=29991231),TEXT(작성!B10,"0"),IF(AND(ISNUMBER(작성!B10),작성!B10>=36526,작성!B10<=73050),TEXT(작성!B10,"yyyymmdd"),IF(AND(NOT(ISNUMBER(작성!B10)),LEN(작성!B10)=8,ISNUMBER(VALUE(작성!B10))),작성!B10,"")))) | C13: =IF(작성!$B10="","",SUBSTITUTE(SUBSTITUTE(내정보!$B$3,"-","")," ","")) | D13: =IF(작성!$B10="","",내정보!$B$4) | E13: =IF(작성!$B10="","",내정보!$B$5) | F13: =IF(작성!$B10="","",내정보!$B$6) | G13: =IF(작성!$B10="","",내정보!$B$7) | H13: =IF(작성!$B10="","",내정보!$B$8) | I13: =IF(작성!$B10="","",내정보!$B$9) | J13: =IF(작성!$B10="","",내정보!$B$10) | K13: =IF(작성!$B10="","",SUBSTITUTE(SUBSTITUTE(IFERROR(VLOOKUP(SUBSTITUTE(SUBSTITUTE(SUBSTITUTE(작성!E10,"~","~~"),"*","~*"),"?","~?"),거래처!$A$4:$I$43,2,FALSE),""),"-","")," ","")) | L13: =IF(작성!$B10="","",IFERROR(VLOOKUP(SUBSTITUTE(SUBSTITUTE(SUBSTITUTE(작성!E10,"~","~~"),"*","~*"),"?","~?"),거래처!$A$4:$I$43,3,FALSE),"")) | M13: =IF(작성!$B10="","",IFERROR(VLOOKUP(SUBSTITUTE(SUBSTITUTE(SUBSTITUTE(작성!E10,"~","~~"),"*","~*"),"?","~?"),거래처!$A$4:$I$43,1,FALSE),"")) | N13: =IF(작성!$B10="","",IFERROR(VLOOKUP(SUBSTITUTE(SUBSTITUTE(SUBSTITUTE(작성!E10,"~","~~"),"*","~*"),"?","~?"),거래처!$A$4:$I$43,4,FALSE),"")) | O13: =IF(작성!$B10="","",IFERROR(VLOOKUP(SUBSTITUTE(SUBSTITUTE(SUBSTITUTE(작성!E10,"~","~~"),"*","~*"),"?","~?"),거래처!$A$4:$I$43,5,FALSE),"")) | P13: =IF(작성!$B10="","",IFERROR(VLOOKUP(SUBSTITUTE(SUBSTITUTE(SUBSTITUTE(작성!E10,"~","~~"),"*","~*"),"?","~?"),거래처!$A$4:$I$43,6,FALSE),"")) | Q13: =IF(작성!$B10="","",IFERROR(VLOOKUP(SUBSTITUTE(SUBSTITUTE(SUBSTITUTE(작성!E10,"~","~~"),"*","~*"),"?","~?"),거래처!$A$4:$I$43,7,FALSE),"")) | R13: =IF(작성!$B10="","",IFERROR(VLOOKUP(SUBSTITUTE(SUBSTITUTE(SUBSTITUTE(작성!E10,"~","~~"),"*","~*"),"?","~?"),거래처!$A$4:$I$43,8,FALSE),"")) | S13: =IF(작성!$B10="","",IFERROR(VLOOKUP(SUBSTITUTE(SUBSTITUTE(SUBSTITUTE(작성!E10,"~","~~"),"*","~*"),"?","~?"),거래처!$A$4:$I$43,9,FALSE),"")) | T13: =IF(작성!$B10="","",TEXT(작성!F10,"0")) | U13: =IF(작성!$B10="","",TEXT(작성!G10,"0")) | V13: =IF(작성!$B10="","",작성!H10) | W13: =IF(OR(작성!$B10="",작성!J10=""),"",TEXT(작성!I10,"00")) | X13: =IF(OR(작성!$B10="",작성!J10=""),"",작성!J10) | Y13: =IF(OR(작성!$B10="",작성!J10=""),"",작성!K10) | Z13: =IF(OR(작성!$B10="",작성!J10=""),"",IF(작성!L10=INT(작성!L10),TEXT(작성!L10,"0"),TEXT(작성!L10,"0.##"))) | AA13: =IF(OR(작성!$B10="",작성!J10=""),"",IF(작성!M10=INT(작성!M10),TEXT(작성!M10,"0"),TEXT(작성!M10,"0.##"))) | AB13: =IF(OR(작성!$B10="",작성!J10=""),"",TEXT(작성!N10,"0")) | AC13: =IF(OR(작성!$B10="",작성!J10=""),"",TEXT(작성!O10,"0")) | AD13: =IF(OR(작성!$B10="",작성!J10=""),"","") | AE13: =IF(OR(작성!$B10="",작성!Q10=""),"",TEXT(작성!P10,"00")) | AF13: =IF(OR(작성!$B10="",작성!Q10=""),"",작성!Q10) | AG13: =IF(OR(작성!$B10="",작성!Q10=""),"",작성!R10) | AH13: =IF(OR(작성!$B10="",작성!Q10=""),"",IF(작성!S10=INT(작성!S10),TEXT(작성!S10,"0"),TEXT(작성!S10,"0.##"))) | AI13: =IF(OR(작성!$B10="",작성!Q10=""),"",IF(작성!T10=INT(작성!T10),TEXT(작성!T10,"0"),TEXT(작성!T10,"0.##"))) | AJ13: =IF(OR(작성!$B10="",작성!Q10=""),"",TEXT(작성!U10,"0")) | AK13: =IF(OR(작성!$B10="",작성!Q10=""),"",TEXT(작성!V10,"0")) | AL13: =IF(OR(작성!$B10="",작성!Q10=""),"","") | AM13: =IF(OR(작성!$B10="",작성!X10=""),"",TEXT(작성!W10,"00")) | AN13: =IF(OR(작성!$B10="",작성!X10=""),"",작성!X10) | AO13: =IF(OR(작성!$B10="",작성!X10=""),"",작성!Y10) | AP13: =IF(OR(작성!$B10="",작성!X10=""),"",IF(작성!Z10=INT(작성!Z10),TEXT(작성!Z10,"0"),TEXT(작성!Z10,"0.##"))) | AQ13: =IF(OR(작성!$B10="",작성!X10=""),"",IF(작성!AA10=INT(작성!AA10),TEXT(작성!AA10,"0"),TEXT(작성!AA10,"0.##"))) | AR13: =IF(OR(작성!$B10="",작성!X10=""),"",TEXT(작성!AB10,"0")) | AS13: =IF(OR(작성!$B10="",작성!X10=""),"",TEXT(작성!AC10,"0")) | AT13: =IF(OR(작성!$B10="",작성!X10=""),"","") | AU13: =IF(OR(작성!$B10="",작성!AE10=""),"",TEXT(작성!AD10,"00")) | AV13: =IF(OR(작성!$B10="",작성!AE10=""),"",작성!AE10) | AW13: =IF(OR(작성!$B10="",작성!AE10=""),"",작성!AF10) | AX13: =IF(OR(작성!$B10="",작성!AE10=""),"",IF(작성!AG10=INT(작성!AG10),TEXT(작성!AG10,"0"),TEXT(작성!AG10,"0.##"))) | AY13: =IF(OR(작성!$B10="",작성!AE10=""),"",IF(작성!AH10=INT(작성!AH10),TEXT(작성!AH10,"0"),TEXT(작성!AH10,"0.##"))) | AZ13: =IF(OR(작성!$B10="",작성!AE10=""),"",TEXT(작성!AI10,"0")) | BA13: =IF(OR(작성!$B10="",작성!AE10=""),"",TEXT(작성!AJ10,"0")) | BB13: =IF(OR(작성!$B10="",작성!AE10=""),"","") | BC13: ="" | BD13: ="" | BE13: ="" | BF13: ="" | BG13: =IF(작성!$B10="","",IF(작성!D10="영수","01","02"))
A14: =IF(작성!$B11="","",IF(작성!C11="영세율","02","01")) | B14: =IF(작성!$B11="","",IF(AND(ISNUMBER(작성!B11),작성!B11>=20000101,작성!B11<=29991231),TEXT(작성!B11,"0"),IF(AND(ISNUMBER(작성!B11),작성!B11>=36526,작성!B11<=73050),TEXT(작성!B11,"yyyymmdd"),IF(AND(NOT(ISNUMBER(작성!B11)),LEN(작성!B11)=8,ISNUMBER(VALUE(작성!B11))),작성!B11,"")))) | C14: =IF(작성!$B11="","",SUBSTITUTE(SUBSTITUTE(내정보!$B$3,"-","")," ","")) | D14: =IF(작성!$B11="","",내정보!$B$4) | E14: =IF(작성!$B11="","",내정보!$B$5) | F14: =IF(작성!$B11="","",내정보!$B$6) | G14: =IF(작성!$B11="","",내정보!$B$7) | H14: =IF(작성!$B11="","",내정보!$B$8) | I14: =IF(작성!$B11="","",내정보!$B$9) | J14: =IF(작성!$B11="","",내정보!$B$10) | K14: =IF(작성!$B11="","",SUBSTITUTE(SUBSTITUTE(IFERROR(VLOOKUP(SUBSTITUTE(SUBSTITUTE(SUBSTITUTE(작성!E11,"~","~~"),"*","~*"),"?","~?"),거래처!$A$4:$I$43,2,FALSE),""),"-","")," ","")) | L14: =IF(작성!$B11="","",IFERROR(VLOOKUP(SUBSTITUTE(SUBSTITUTE(SUBSTITUTE(작성!E11,"~","~~"),"*","~*"),"?","~?"),거래처!$A$4:$I$43,3,FALSE),"")) | M14: =IF(작성!$B11="","",IFERROR(VLOOKUP(SUBSTITUTE(SUBSTITUTE(SUBSTITUTE(작성!E11,"~","~~"),"*","~*"),"?","~?"),거래처!$A$4:$I$43,1,FALSE),"")) | N14: =IF(작성!$B11="","",IFERROR(VLOOKUP(SUBSTITUTE(SUBSTITUTE(SUBSTITUTE(작성!E11,"~","~~"),"*","~*"),"?","~?"),거래처!$A$4:$I$43,4,FALSE),"")) | O14: =IF(작성!$B11="","",IFERROR(VLOOKUP(SUBSTITUTE(SUBSTITUTE(SUBSTITUTE(작성!E11,"~","~~"),"*","~*"),"?","~?"),거래처!$A$4:$I$43,5,FALSE),"")) | P14: =IF(작성!$B11="","",IFERROR(VLOOKUP(SUBSTITUTE(SUBSTITUTE(SUBSTITUTE(작성!E11,"~","~~"),"*","~*"),"?","~?"),거래처!$A$4:$I$43,6,FALSE),"")) | Q14: =IF(작성!$B11="","",IFERROR(VLOOKUP(SUBSTITUTE(SUBSTITUTE(SUBSTITUTE(작성!E11,"~","~~"),"*","~*"),"?","~?"),거래처!$A$4:$I$43,7,FALSE),"")) | R14: =IF(작성!$B11="","",IFERROR(VLOOKUP(SUBSTITUTE(SUBSTITUTE(SUBSTITUTE(작성!E11,"~","~~"),"*","~*"),"?","~?"),거래처!$A$4:$I$43,8,FALSE),"")) | S14: =IF(작성!$B11="","",IFERROR(VLOOKUP(SUBSTITUTE(SUBSTITUTE(SUBSTITUTE(작성!E11,"~","~~"),"*","~*"),"?","~?"),거래처!$A$4:$I$43,9,FALSE),"")) | T14: =IF(작성!$B11="","",TEXT(작성!F11,"0")) | U14: =IF(작성!$B11="","",TEXT(작성!G11,"0")) | V14: =IF(작성!$B11="","",작성!H11) | W14: =IF(OR(작성!$B11="",작성!J11=""),"",TEXT(작성!I11,"00")) | X14: =IF(OR(작성!$B11="",작성!J11=""),"",작성!J11) | Y14: =IF(OR(작성!$B11="",작성!J11=""),"",작성!K11) | Z14: =IF(OR(작성!$B11="",작성!J11=""),"",IF(작성!L11=INT(작성!L11),TEXT(작성!L11,"0"),TEXT(작성!L11,"0.##"))) | AA14: =IF(OR(작성!$B11="",작성!J11=""),"",IF(작성!M11=INT(작성!M11),TEXT(작성!M11,"0"),TEXT(작성!M11,"0.##"))) | AB14: =IF(OR(작성!$B11="",작성!J11=""),"",TEXT(작성!N11,"0")) | AC14: =IF(OR(작성!$B11="",작성!J11=""),"",TEXT(작성!O11,"0")) | AD14: =IF(OR(작성!$B11="",작성!J11=""),"","") | AE14: =IF(OR(작성!$B11="",작성!Q11=""),"",TEXT(작성!P11,"00")) | AF14: =IF(OR(작성!$B11="",작성!Q11=""),"",작성!Q11) | AG14: =IF(OR(작성!$B11="",작성!Q11=""),"",작성!R11) | AH14: =IF(OR(작성!$B11="",작성!Q11=""),"",IF(작성!S11=INT(작성!S11),TEXT(작성!S11,"0"),TEXT(작성!S11,"0.##"))) | AI14: =IF(OR(작성!$B11="",작성!Q11=""),"",IF(작성!T11=INT(작성!T11),TEXT(작성!T11,"0"),TEXT(작성!T11,"0.##"))) | AJ14: =IF(OR(작성!$B11="",작성!Q11=""),"",TEXT(작성!U11,"0")) | AK14: =IF(OR(작성!$B11="",작성!Q11=""),"",TEXT(작성!V11,"0")) | AL14: =IF(OR(작성!$B11="",작성!Q11=""),"","") | AM14: =IF(OR(작성!$B11="",작성!X11=""),"",TEXT(작성!W11,"00")) | AN14: =IF(OR(작성!$B11="",작성!X11=""),"",작성!X11) | AO14: =IF(OR(작성!$B11="",작성!X11=""),"",작성!Y11) | AP14: =IF(OR(작성!$B11="",작성!X11=""),"",IF(작성!Z11=INT(작성!Z11),TEXT(작성!Z11,"0"),TEXT(작성!Z11,"0.##"))) | AQ14: =IF(OR(작성!$B11="",작성!X11=""),"",IF(작성!AA11=INT(작성!AA11),TEXT(작성!AA11,"0"),TEXT(작성!AA11,"0.##"))) | AR14: =IF(OR(작성!$B11="",작성!X11=""),"",TEXT(작성!AB11,"0")) | AS14: =IF(OR(작성!$B11="",작성!X11=""),"",TEXT(작성!AC11,"0")) | AT14: =IF(OR(작성!$B11="",작성!X11=""),"","") | AU14: =IF(OR(작성!$B11="",작성!AE11=""),"",TEXT(작성!AD11,"00")) | AV14: =IF(OR(작성!$B11="",작성!AE11=""),"",작성!AE11) | AW14: =IF(OR(작성!$B11="",작성!AE11=""),"",작성!AF11) | AX14: =IF(OR(작성!$B11="",작성!AE11=""),"",IF(작성!AG11=INT(작성!AG11),TEXT(작성!AG11,"0"),TEXT(작성!AG11,"0.##"))) | AY14: =IF(OR(작성!$B11="",작성!AE11=""),"",IF(작성!AH11=INT(작성!AH11),TEXT(작성!AH11,"0"),TEXT(작성!AH11,"0.##"))) | AZ14: =IF(OR(작성!$B11="",작성!AE11=""),"",TEXT(작성!AI11,"0")) | BA14: =IF(OR(작성!$B11="",작성!AE11=""),"",TEXT(작성!AJ11,"0")) | BB14: =IF(OR(작성!$B11="",작성!AE11=""),"","") | BC14: ="" | BD14: ="" | BE14: ="" | BF14: ="" | BG14: =IF(작성!$B11="","",IF(작성!D11="영수","01","02"))
A15: =IF(작성!$B12="","",IF(작성!C12="영세율","02","01")) | B15: =IF(작성!$B12="","",IF(AND(ISNUMBER(작성!B12),작성!B12>=20000101,작성!B12<=29991231),TEXT(작성!B12,"0"),IF(AND(ISNUMBER(작성!B12),작성!B12>=36526,작성!B12<=73050),TEXT(작성!B12,"yyyymmdd"),IF(AND(NOT(ISNUMBER(작성!B12)),LEN(작성!B12)=8,ISNUMBER(VALUE(작성!B12))),작성!B12,"")))) | C15: =IF(작성!$B12="","",SUBSTITUTE(SUBSTITUTE(내정보!$B$3,"-","")," ","")) | D15: =IF(작성!$B12="","",내정보!$B$4) | E15: =IF(작성!$B12="","",내정보!$B$5) | F15: =IF(작성!$B12="","",내정보!$B$6) | G15: =IF(작성!$B12="","",내정보!$B$7) | H15: =IF(작성!$B12="","",내정보!$B$8) | I15: =IF(작성!$B12="","",내정보!$B$9) | J15: =IF(작성!$B12="","",내정보!$B$10) | K15: =IF(작성!$B12="","",SUBSTITUTE(SUBSTITUTE(IFERROR(VLOOKUP(SUBSTITUTE(SUBSTITUTE(SUBSTITUTE(작성!E12,"~","~~"),"*","~*"),"?","~?"),거래처!$A$4:$I$43,2,FALSE),""),"-","")," ","")) | L15: =IF(작성!$B12="","",IFERROR(VLOOKUP(SUBSTITUTE(SUBSTITUTE(SUBSTITUTE(작성!E12,"~","~~"),"*","~*"),"?","~?"),거래처!$A$4:$I$43,3,FALSE),"")) | M15: =IF(작성!$B12="","",IFERROR(VLOOKUP(SUBSTITUTE(SUBSTITUTE(SUBSTITUTE(작성!E12,"~","~~"),"*","~*"),"?","~?"),거래처!$A$4:$I$43,1,FALSE),"")) | N15: =IF(작성!$B12="","",IFERROR(VLOOKUP(SUBSTITUTE(SUBSTITUTE(SUBSTITUTE(작성!E12,"~","~~"),"*","~*"),"?","~?"),거래처!$A$4:$I$43,4,FALSE),"")) | O15: =IF(작성!$B12="","",IFERROR(VLOOKUP(SUBSTITUTE(SUBSTITUTE(SUBSTITUTE(작성!E12,"~","~~"),"*","~*"),"?","~?"),거래처!$A$4:$I$43,5,FALSE),"")) | P15: =IF(작성!$B12="","",IFERROR(VLOOKUP(SUBSTITUTE(SUBSTITUTE(SUBSTITUTE(작성!E12,"~","~~"),"*","~*"),"?","~?"),거래처!$A$4:$I$43,6,FALSE),"")) | Q15: =IF(작성!$B12="","",IFERROR(VLOOKUP(SUBSTITUTE(SUBSTITUTE(SUBSTITUTE(작성!E12,"~","~~"),"*","~*"),"?","~?"),거래처!$A$4:$I$43,7,FALSE),"")) | R15: =IF(작성!$B12="","",IFERROR(VLOOKUP(SUBSTITUTE(SUBSTITUTE(SUBSTITUTE(작성!E12,"~","~~"),"*","~*"),"?","~?"),거래처!$A$4:$I$43,8,FALSE),"")) | S15: =IF(작성!$B12="","",IFERROR(VLOOKUP(SUBSTITUTE(SUBSTITUTE(SUBSTITUTE(작성!E12,"~","~~"),"*","~*"),"?","~?"),거래처!$A$4:$I$43,9,FALSE),"")) | T15: =IF(작성!$B12="","",TEXT(작성!F12,"0")) | U15: =IF(작성!$B12="","",TEXT(작성!G12,"0")) | V15: =IF(작성!$B12="","",작성!H12) | W15: =IF(OR(작성!$B12="",작성!J12=""),"",TEXT(작성!I12,"00")) | X15: =IF(OR(작성!$B12="",작성!J12=""),"",작성!J12) | Y15: =IF(OR(작성!$B12="",작성!J12=""),"",작성!K12) | Z15: =IF(OR(작성!$B12="",작성!J12=""),"",IF(작성!L12=INT(작성!L12),TEXT(작성!L12,"0"),TEXT(작성!L12,"0.##"))) | AA15: =IF(OR(작성!$B12="",작성!J12=""),"",IF(작성!M12=INT(작성!M12),TEXT(작성!M12,"0"),TEXT(작성!M12,"0.##"))) | AB15: =IF(OR(작성!$B12="",작성!J12=""),"",TEXT(작성!N12,"0")) | AC15: =IF(OR(작성!$B12="",작성!J12=""),"",TEXT(작성!O12,"0")) | AD15: =IF(OR(작성!$B12="",작성!J12=""),"","") | AE15: =IF(OR(작성!$B12="",작성!Q12=""),"",TEXT(작성!P12,"00")) | AF15: =IF(OR(작성!$B12="",작성!Q12=""),"",작성!Q12) | AG15: =IF(OR(작성!$B12="",작성!Q12=""),"",작성!R12) | AH15: =IF(OR(작성!$B12="",작성!Q12=""),"",IF(작성!S12=INT(작성!S12),TEXT(작성!S12,"0"),TEXT(작성!S12,"0.##"))) | AI15: =IF(OR(작성!$B12="",작성!Q12=""),"",IF(작성!T12=INT(작성!T12),TEXT(작성!T12,"0"),TEXT(작성!T12,"0.##"))) | AJ15: =IF(OR(작성!$B12="",작성!Q12=""),"",TEXT(작성!U12,"0")) | AK15: =IF(OR(작성!$B12="",작성!Q12=""),"",TEXT(작성!V12,"0")) | AL15: =IF(OR(작성!$B12="",작성!Q12=""),"","") | AM15: =IF(OR(작성!$B12="",작성!X12=""),"",TEXT(작성!W12,"00")) | AN15: =IF(OR(작성!$B12="",작성!X12=""),"",작성!X12) | AO15: =IF(OR(작성!$B12="",작성!X12=""),"",작성!Y12) | AP15: =IF(OR(작성!$B12="",작성!X12=""),"",IF(작성!Z12=INT(작성!Z12),TEXT(작성!Z12,"0"),TEXT(작성!Z12,"0.##"))) | AQ15: =IF(OR(작성!$B12="",작성!X12=""),"",IF(작성!AA12=INT(작성!AA12),TEXT(작성!AA12,"0"),TEXT(작성!AA12,"0.##"))) | AR15: =IF(OR(작성!$B12="",작성!X12=""),"",TEXT(작성!AB12,"0")) | AS15: =IF(OR(작성!$B12="",작성!X12=""),"",TEXT(작성!AC12,"0")) | AT15: =IF(OR(작성!$B12="",작성!X12=""),"","") | AU15: =IF(OR(작성!$B12="",작성!AE12=""),"",TEXT(작성!AD12,"00")) | AV15: =IF(OR(작성!$B12="",작성!AE12=""),"",작성!AE12) | AW15: =IF(OR(작성!$B12="",작성!AE12=""),"",작성!AF12) | AX15: =IF(OR(작성!$B12="",작성!AE12=""),"",IF(작성!AG12=INT(작성!AG12),TEXT(작성!AG12,"0"),TEXT(작성!AG12,"0.##"))) | AY15: =IF(OR(작성!$B12="",작성!AE12=""),"",IF(작성!AH12=INT(작성!AH12),TEXT(작성!AH12,"0"),TEXT(작성!AH12,"0.##"))) | AZ15: =IF(OR(작성!$B12="",작성!AE12=""),"",TEXT(작성!AI12,"0")) | BA15: =IF(OR(작성!$B12="",작성!AE12=""),"",TEXT(작성!AJ12,"0")) | BB15: =IF(OR(작성!$B12="",작성!AE12=""),"","") | BC15: ="" | BD15: ="" | BE15: ="" | BF15: ="" | BG15: =IF(작성!$B12="","",IF(작성!D12="영수","01","02"))
A16: =IF(작성!$B13="","",IF(작성!C13="영세율","02","01")) | B16: =IF(작성!$B13="","",IF(AND(ISNUMBER(작성!B13),작성!B13>=20000101,작성!B13<=29991231),TEXT(작성!B13,"0"),IF(AND(ISNUMBER(작성!B13),작성!B13>=36526,작성!B13<=73050),TEXT(작성!B13,"yyyymmdd"),IF(AND(NOT(ISNUMBER(작성!B13)),LEN(작성!B13)=8,ISNUMBER(VALUE(작성!B13))),작성!B13,"")))) | C16: =IF(작성!$B13="","",SUBSTITUTE(SUBSTITUTE(내정보!$B$3,"-","")," ","")) | D16: =IF(작성!$B13="","",내정보!$B$4) | E16: =IF(작성!$B13="","",내정보!$B$5) | F16: =IF(작성!$B13="","",내정보!$B$6) | G16: =IF(작성!$B13="","",내정보!$B$7) | H16: =IF(작성!$B13="","",내정보!$B$8) | I16: =IF(작성!$B13="","",내정보!$B$9) | J16: =IF(작성!$B13="","",내정보!$B$10) | K16: =IF(작성!$B13="","",SUBSTITUTE(SUBSTITUTE(IFERROR(VLOOKUP(SUBSTITUTE(SUBSTITUTE(SUBSTITUTE(작성!E13,"~","~~"),"*","~*"),"?","~?"),거래처!$A$4:$I$43,2,FALSE),""),"-","")," ","")) | L16: =IF(작성!$B13="","",IFERROR(VLOOKUP(SUBSTITUTE(SUBSTITUTE(SUBSTITUTE(작성!E13,"~","~~"),"*","~*"),"?","~?"),거래처!$A$4:$I$43,3,FALSE),"")) | M16: =IF(작성!$B13="","",IFERROR(VLOOKUP(SUBSTITUTE(SUBSTITUTE(SUBSTITUTE(작성!E13,"~","~~"),"*","~*"),"?","~?"),거래처!$A$4:$I$43,1,FALSE),"")) | N16: =IF(작성!$B13="","",IFERROR(VLOOKUP(SUBSTITUTE(SUBSTITUTE(SUBSTITUTE(작성!E13,"~","~~"),"*","~*"),"?","~?"),거래처!$A$4:$I$43,4,FALSE),"")) | O16: =IF(작성!$B13="","",IFERROR(VLOOKUP(SUBSTITUTE(SUBSTITUTE(SUBSTITUTE(작성!E13,"~","~~"),"*","~*"),"?","~?"),거래처!$A$4:$I$43,5,FALSE),"")) | P16: =IF(작성!$B13="","",IFERROR(VLOOKUP(SUBSTITUTE(SUBSTITUTE(SUBSTITUTE(작성!E13,"~","~~"),"*","~*"),"?","~?"),거래처!$A$4:$I$43,6,FALSE),"")) | Q16: =IF(작성!$B13="","",IFERROR(VLOOKUP(SUBSTITUTE(SUBSTITUTE(SUBSTITUTE(작성!E13,"~","~~"),"*","~*"),"?","~?"),거래처!$A$4:$I$43,7,FALSE),"")) | R16: =IF(작성!$B13="","",IFERROR(VLOOKUP(SUBSTITUTE(SUBSTITUTE(SUBSTITUTE(작성!E13,"~","~~"),"*","~*"),"?","~?"),거래처!$A$4:$I$43,8,FALSE),"")) | S16: =IF(작성!$B13="","",IFERROR(VLOOKUP(SUBSTITUTE(SUBSTITUTE(SUBSTITUTE(작성!E13,"~","~~"),"*","~*"),"?","~?"),거래처!$A$4:$I$43,9,FALSE),"")) | T16: =IF(작성!$B13="","",TEXT(작성!F13,"0")) | U16: =IF(작성!$B13="","",TEXT(작성!G13,"0")) | V16: =IF(작성!$B13="","",작성!H13) | W16: =IF(OR(작성!$B13="",작성!J13=""),"",TEXT(작성!I13,"00")) | X16: =IF(OR(작성!$B13="",작성!J13=""),"",작성!J13) | Y16: =IF(OR(작성!$B13="",작성!J13=""),"",작성!K13) | Z16: =IF(OR(작성!$B13="",작성!J13=""),"",IF(작성!L13=INT(작성!L13),TEXT(작성!L13,"0"),TEXT(작성!L13,"0.##"))) | AA16: =IF(OR(작성!$B13="",작성!J13=""),"",IF(작성!M13=INT(작성!M13),TEXT(작성!M13,"0"),TEXT(작성!M13,"0.##"))) | AB16: =IF(OR(작성!$B13="",작성!J13=""),"",TEXT(작성!N13,"0")) | AC16: =IF(OR(작성!$B13="",작성!J13=""),"",TEXT(작성!O13,"0")) | AD16: =IF(OR(작성!$B13="",작성!J13=""),"","") | AE16: =IF(OR(작성!$B13="",작성!Q13=""),"",TEXT(작성!P13,"00")) | AF16: =IF(OR(작성!$B13="",작성!Q13=""),"",작성!Q13) | AG16: =IF(OR(작성!$B13="",작성!Q13=""),"",작성!R13) | AH16: =IF(OR(작성!$B13="",작성!Q13=""),"",IF(작성!S13=INT(작성!S13),TEXT(작성!S13,"0"),TEXT(작성!S13,"0.##"))) | AI16: =IF(OR(작성!$B13="",작성!Q13=""),"",IF(작성!T13=INT(작성!T13),TEXT(작성!T13,"0"),TEXT(작성!T13,"0.##"))) | AJ16: =IF(OR(작성!$B13="",작성!Q13=""),"",TEXT(작성!U13,"0")) | AK16: =IF(OR(작성!$B13="",작성!Q13=""),"",TEXT(작성!V13,"0")) | AL16: =IF(OR(작성!$B13="",작성!Q13=""),"","") | AM16: =IF(OR(작성!$B13="",작성!X13=""),"",TEXT(작성!W13,"00")) | AN16: =IF(OR(작성!$B13="",작성!X13=""),"",작성!X13) | AO16: =IF(OR(작성!$B13="",작성!X13=""),"",작성!Y13) | AP16: =IF(OR(작성!$B13="",작성!X13=""),"",IF(작성!Z13=INT(작성!Z13),TEXT(작성!Z13,"0"),TEXT(작성!Z13,"0.##"))) | AQ16: =IF(OR(작성!$B13="",작성!X13=""),"",IF(작성!AA13=INT(작성!AA13),TEXT(작성!AA13,"0"),TEXT(작성!AA13,"0.##"))) | AR16: =IF(OR(작성!$B13="",작성!X13=""),"",TEXT(작성!AB13,"0")) | AS16: =IF(OR(작성!$B13="",작성!X13=""),"",TEXT(작성!AC13,"0")) | AT16: =IF(OR(작성!$B13="",작성!X13=""),"","") | AU16: =IF(OR(작성!$B13="",작성!AE13=""),"",TEXT(작성!AD13,"00")) | AV16: =IF(OR(작성!$B13="",작성!AE13=""),"",작성!AE13) | AW16: =IF(OR(작성!$B13="",작성!AE13=""),"",작성!AF13) | AX16: =IF(OR(작성!$B13="",작성!AE13=""),"",IF(작성!AG13=INT(작성!AG13),TEXT(작성!AG13,"0"),TEXT(작성!AG13,"0.##"))) | AY16: =IF(OR(작성!$B13="",작성!AE13=""),"",IF(작성!AH13=INT(작성!AH13),TEXT(작성!AH13,"0"),TEXT(작성!AH13,"0.##"))) | AZ16: =IF(OR(작성!$B13="",작성!AE13=""),"",TEXT(작성!AI13,"0")) | BA16: =IF(OR(작성!$B13="",작성!AE13=""),"",TEXT(작성!AJ13,"0")) | BB16: =IF(OR(작성!$B13="",작성!AE13=""),"","") | BC16: ="" | BD16: ="" | BE16: ="" | BF16: ="" | BG16: =IF(작성!$B13="","",IF(작성!D13="영수","01","02"))
A17: =IF(작성!$B14="","",IF(작성!C14="영세율","02","01")) | B17: =IF(작성!$B14="","",IF(AND(ISNUMBER(작성!B14),작성!B14>=20000101,작성!B14<=29991231),TEXT(작성!B14,"0"),IF(AND(ISNUMBER(작성!B14),작성!B14>=36526,작성!B14<=73050),TEXT(작성!B14,"yyyymmdd"),IF(AND(NOT(ISNUMBER(작성!B14)),LEN(작성!B14)=8,ISNUMBER(VALUE(작성!B14))),작성!B14,"")))) | C17: =IF(작성!$B14="","",SUBSTITUTE(SUBSTITUTE(내정보!$B$3,"-","")," ","")) | D17: =IF(작성!$B14="","",내정보!$B$4) | E17: =IF(작성!$B14="","",내정보!$B$5) | F17: =IF(작성!$B14="","",내정보!$B$6) | G17: =IF(작성!$B14="","",내정보!$B$7) | H17: =IF(작성!$B14="","",내정보!$B$8) | I17: =IF(작성!$B14="","",내정보!$B$9) | J17: =IF(작성!$B14="","",내정보!$B$10) | K17: =IF(작성!$B14="","",SUBSTITUTE(SUBSTITUTE(IFERROR(VLOOKUP(SUBSTITUTE(SUBSTITUTE(SUBSTITUTE(작성!E14,"~","~~"),"*","~*"),"?","~?"),거래처!$A$4:$I$43,2,FALSE),""),"-","")," ","")) | L17: =IF(작성!$B14="","",IFERROR(VLOOKUP(SUBSTITUTE(SUBSTITUTE(SUBSTITUTE(작성!E14,"~","~~"),"*","~*"),"?","~?"),거래처!$A$4:$I$43,3,FALSE),"")) | M17: =IF(작성!$B14="","",IFERROR(VLOOKUP(SUBSTITUTE(SUBSTITUTE(SUBSTITUTE(작성!E14,"~","~~"),"*","~*"),"?","~?"),거래처!$A$4:$I$43,1,FALSE),"")) | N17: =IF(작성!$B14="","",IFERROR(VLOOKUP(SUBSTITUTE(SUBSTITUTE(SUBSTITUTE(작성!E14,"~","~~"),"*","~*"),"?","~?"),거래처!$A$4:$I$43,4,FALSE),"")) | O17: =IF(작성!$B14="","",IFERROR(VLOOKUP(SUBSTITUTE(SUBSTITUTE(SUBSTITUTE(작성!E14,"~","~~"),"*","~*"),"?","~?"),거래처!$A$4:$I$43,5,FALSE),"")) | P17: =IF(작성!$B14="","",IFERROR(VLOOKUP(SUBSTITUTE(SUBSTITUTE(SUBSTITUTE(작성!E14,"~","~~"),"*","~*"),"?","~?"),거래처!$A$4:$I$43,6,FALSE),"")) | Q17: =IF(작성!$B14="","",IFERROR(VLOOKUP(SUBSTITUTE(SUBSTITUTE(SUBSTITUTE(작성!E14,"~","~~"),"*","~*"),"?","~?"),거래처!$A$4:$I$43,7,FALSE),"")) | R17: =IF(작성!$B14="","",IFERROR(VLOOKUP(SUBSTITUTE(SUBSTITUTE(SUBSTITUTE(작성!E14,"~","~~"),"*","~*"),"?","~?"),거래처!$A$4:$I$43,8,FALSE),"")) | S17: =IF(작성!$B14="","",IFERROR(VLOOKUP(SUBSTITUTE(SUBSTITUTE(SUBSTITUTE(작성!E14,"~","~~"),"*","~*"),"?","~?"),거래처!$A$4:$I$43,9,FALSE),"")) | T17: =IF(작성!$B14="","",TEXT(작성!F14,"0")) | U17: =IF(작성!$B14="","",TEXT(작성!G14,"0")) | V17: =IF(작성!$B14="","",작성!H14) | W17: =IF(OR(작성!$B14="",작성!J14=""),"",TEXT(작성!I14,"00")) | X17: =IF(OR(작성!$B14="",작성!J14=""),"",작성!J14) | Y17: =IF(OR(작성!$B14="",작성!J14=""),"",작성!K14) | Z17: =IF(OR(작성!$B14="",작성!J14=""),"",IF(작성!L14=INT(작성!L14),TEXT(작성!L14,"0"),TEXT(작성!L14,"0.##"))) | AA17: =IF(OR(작성!$B14="",작성!J14=""),"",IF(작성!M14=INT(작성!M14),TEXT(작성!M14,"0"),TEXT(작성!M14,"0.##"))) | AB17: =IF(OR(작성!$B14="",작성!J14=""),"",TEXT(작성!N14,"0")) | AC17: =IF(OR(작성!$B14="",작성!J14=""),"",TEXT(작성!O14,"0")) | AD17: =IF(OR(작성!$B14="",작성!J14=""),"","") | AE17: =IF(OR(작성!$B14="",작성!Q14=""),"",TEXT(작성!P14,"00")) | AF17: =IF(OR(작성!$B14="",작성!Q14=""),"",작성!Q14) | AG17: =IF(OR(작성!$B14="",작성!Q14=""),"",작성!R14) | AH17: =IF(OR(작성!$B14="",작성!Q14=""),"",IF(작성!S14=INT(작성!S14),TEXT(작성!S14,"0"),TEXT(작성!S14,"0.##"))) | AI17: =IF(OR(작성!$B14="",작성!Q14=""),"",IF(작성!T14=INT(작성!T14),TEXT(작성!T14,"0"),TEXT(작성!T14,"0.##"))) | AJ17: =IF(OR(작성!$B14="",작성!Q14=""),"",TEXT(작성!U14,"0")) | AK17: =IF(OR(작성!$B14="",작성!Q14=""),"",TEXT(작성!V14,"0")) | AL17: =IF(OR(작성!$B14="",작성!Q14=""),"","") | AM17: =IF(OR(작성!$B14="",작성!X14=""),"",TEXT(작성!W14,"00")) | AN17: =IF(OR(작성!$B14="",작성!X14=""),"",작성!X14) | AO17: =IF(OR(작성!$B14="",작성!X14=""),"",작성!Y14) | AP17: =IF(OR(작성!$B14="",작성!X14=""),"",IF(작성!Z14=INT(작성!Z14),TEXT(작성!Z14,"0"),TEXT(작성!Z14,"0.##"))) | AQ17: =IF(OR(작성!$B14="",작성!X14=""),"",IF(작성!AA14=INT(작성!AA14),TEXT(작성!AA14,"0"),TEXT(작성!AA14,"0.##"))) | AR17: =IF(OR(작성!$B14="",작성!X14=""),"",TEXT(작성!AB14,"0")) | AS17: =IF(OR(작성!$B14="",작성!X14=""),"",TEXT(작성!AC14,"0")) | AT17: =IF(OR(작성!$B14="",작성!X14=""),"","") | AU17: =IF(OR(작성!$B14="",작성!AE14=""),"",TEXT(작성!AD14,"00")) | AV17: =IF(OR(작성!$B14="",작성!AE14=""),"",작성!AE14) | AW17: =IF(OR(작성!$B14="",작성!AE14=""),"",작성!AF14) | AX17: =IF(OR(작성!$B14="",작성!AE14=""),"",IF(작성!AG14=INT(작성!AG14),TEXT(작성!AG14,"0"),TEXT(작성!AG14,"0.##"))) | AY17: =IF(OR(작성!$B14="",작성!AE14=""),"",IF(작성!AH14=INT(작성!AH14),TEXT(작성!AH14,"0"),TEXT(작성!AH14,"0.##"))) | AZ17: =IF(OR(작성!$B14="",작성!AE14=""),"",TEXT(작성!AI14,"0")) | BA17: =IF(OR(작성!$B14="",작성!AE14=""),"",TEXT(작성!AJ14,"0")) | BB17: =IF(OR(작성!$B14="",작성!AE14=""),"","") | BC17: ="" | BD17: ="" | BE17: ="" | BF17: ="" | BG17: =IF(작성!$B14="","",IF(작성!D14="영수","01","02"))
A18: =IF(작성!$B15="","",IF(작성!C15="영세율","02","01")) | B18: =IF(작성!$B15="","",IF(AND(ISNUMBER(작성!B15),작성!B15>=20000101,작성!B15<=29991231),TEXT(작성!B15,"0"),IF(AND(ISNUMBER(작성!B15),작성!B15>=36526,작성!B15<=73050),TEXT(작성!B15,"yyyymmdd"),IF(AND(NOT(ISNUMBER(작성!B15)),LEN(작성!B15)=8,ISNUMBER(VALUE(작성!B15))),작성!B15,"")))) | C18: =IF(작성!$B15="","",SUBSTITUTE(SUBSTITUTE(내정보!$B$3,"-","")," ","")) | D18: =IF(작성!$B15="","",내정보!$B$4) | E18: =IF(작성!$B15="","",내정보!$B$5) | F18: =IF(작성!$B15="","",내정보!$B$6) | G18: =IF(작성!$B15="","",내정보!$B$7) | H18: =IF(작성!$B15="","",내정보!$B$8) | I18: =IF(작성!$B15="","",내정보!$B$9) | J18: =IF(작성!$B15="","",내정보!$B$10) | K18: =IF(작성!$B15="","",SUBSTITUTE(SUBSTITUTE(IFERROR(VLOOKUP(SUBSTITUTE(SUBSTITUTE(SUBSTITUTE(작성!E15,"~","~~"),"*","~*"),"?","~?"),거래처!$A$4:$I$43,2,FALSE),""),"-","")," ","")) | L18: =IF(작성!$B15="","",IFERROR(VLOOKUP(SUBSTITUTE(SUBSTITUTE(SUBSTITUTE(작성!E15,"~","~~"),"*","~*"),"?","~?"),거래처!$A$4:$I$43,3,FALSE),"")) | M18: =IF(작성!$B15="","",IFERROR(VLOOKUP(SUBSTITUTE(SUBSTITUTE(SUBSTITUTE(작성!E15,"~","~~"),"*","~*"),"?","~?"),거래처!$A$4:$I$43,1,FALSE),"")) | N18: =IF(작성!$B15="","",IFERROR(VLOOKUP(SUBSTITUTE(SUBSTITUTE(SUBSTITUTE(작성!E15,"~","~~"),"*","~*"),"?","~?"),거래처!$A$4:$I$43,4,FALSE),"")) | O18: =IF(작성!$B15="","",IFERROR(VLOOKUP(SUBSTITUTE(SUBSTITUTE(SUBSTITUTE(작성!E15,"~","~~"),"*","~*"),"?","~?"),거래처!$A$4:$I$43,5,FALSE),"")) | P18: =IF(작성!$B15="","",IFERROR(VLOOKUP(SUBSTITUTE(SUBSTITUTE(SUBSTITUTE(작성!E15,"~","~~"),"*","~*"),"?","~?"),거래처!$A$4:$I$43,6,FALSE),"")) | Q18: =IF(작성!$B15="","",IFERROR(VLOOKUP(SUBSTITUTE(SUBSTITUTE(SUBSTITUTE(작성!E15,"~","~~"),"*","~*"),"?","~?"),거래처!$A$4:$I$43,7,FALSE),"")) | R18: =IF(작성!$B15="","",IFERROR(VLOOKUP(SUBSTITUTE(SUBSTITUTE(SUBSTITUTE(작성!E15,"~","~~"),"*","~*"),"?","~?"),거래처!$A$4:$I$43,8,FALSE),"")) | S18: =IF(작성!$B15="","",IFERROR(VLOOKUP(SUBSTITUTE(SUBSTITUTE(SUBSTITUTE(작성!E15,"~","~~"),"*","~*"),"?","~?"),거래처!$A$4:$I$43,9,FALSE),"")) | T18: =IF(작성!$B15="","",TEXT(작성!F15,"0")) | U18: =IF(작성!$B15="","",TEXT(작성!G15,"0")) | V18: =IF(작성!$B15="","",작성!H15) | W18: =IF(OR(작성!$B15="",작성!J15=""),"",TEXT(작성!I15,"00")) | X18: =IF(OR(작성!$B15="",작성!J15=""),"",작성!J15) | Y18: =IF(OR(작성!$B15="",작성!J15=""),"",작성!K15) | Z18: =IF(OR(작성!$B15="",작성!J15=""),"",IF(작성!L15=INT(작성!L15),TEXT(작성!L15,"0"),TEXT(작성!L15,"0.##"))) | AA18: =IF(OR(작성!$B15="",작성!J15=""),"",IF(작성!M15=INT(작성!M15),TEXT(작성!M15,"0"),TEXT(작성!M15,"0.##"))) | AB18: =IF(OR(작성!$B15="",작성!J15=""),"",TEXT(작성!N15,"0")) | AC18: =IF(OR(작성!$B15="",작성!J15=""),"",TEXT(작성!O15,"0")) | AD18: =IF(OR(작성!$B15="",작성!J15=""),"","") | AE18: =IF(OR(작성!$B15="",작성!Q15=""),"",TEXT(작성!P15,"00")) | AF18: =IF(OR(작성!$B15="",작성!Q15=""),"",작성!Q15) | AG18: =IF(OR(작성!$B15="",작성!Q15=""),"",작성!R15) | AH18: =IF(OR(작성!$B15="",작성!Q15=""),"",IF(작성!S15=INT(작성!S15),TEXT(작성!S15,"0"),TEXT(작성!S15,"0.##"))) | AI18: =IF(OR(작성!$B15="",작성!Q15=""),"",IF(작성!T15=INT(작성!T15),TEXT(작성!T15,"0"),TEXT(작성!T15,"0.##"))) | AJ18: =IF(OR(작성!$B15="",작성!Q15=""),"",TEXT(작성!U15,"0")) | AK18: =IF(OR(작성!$B15="",작성!Q15=""),"",TEXT(작성!V15,"0")) | AL18: =IF(OR(작성!$B15="",작성!Q15=""),"","") | AM18: =IF(OR(작성!$B15="",작성!X15=""),"",TEXT(작성!W15,"00")) | AN18: =IF(OR(작성!$B15="",작성!X15=""),"",작성!X15) | AO18: =IF(OR(작성!$B15="",작성!X15=""),"",작성!Y15) | AP18: =IF(OR(작성!$B15="",작성!X15=""),"",IF(작성!Z15=INT(작성!Z15),TEXT(작성!Z15,"0"),TEXT(작성!Z15,"0.##"))) | AQ18: =IF(OR(작성!$B15="",작성!X15=""),"",IF(작성!AA15=INT(작성!AA15),TEXT(작성!AA15,"0"),TEXT(작성!AA15,"0.##"))) | AR18: =IF(OR(작성!$B15="",작성!X15=""),"",TEXT(작성!AB15,"0")) | AS18: =IF(OR(작성!$B15="",작성!X15=""),"",TEXT(작성!AC15,"0")) | AT18: =IF(OR(작성!$B15="",작성!X15=""),"","") | AU18: =IF(OR(작성!$B15="",작성!AE15=""),"",TEXT(작성!AD15,"00")) | AV18: =IF(OR(작성!$B15="",작성!AE15=""),"",작성!AE15) | AW18: =IF(OR(작성!$B15="",작성!AE15=""),"",작성!AF15) | AX18: =IF(OR(작성!$B15="",작성!AE15=""),"",IF(작성!AG15=INT(작성!AG15),TEXT(작성!AG15,"0"),TEXT(작성!AG15,"0.##"))) | AY18: =IF(OR(작성!$B15="",작성!AE15=""),"",IF(작성!AH15=INT(작성!AH15),TEXT(작성!AH15,"0"),TEXT(작성!AH15,"0.##"))) | AZ18: =IF(OR(작성!$B15="",작성!AE15=""),"",TEXT(작성!AI15,"0")) | BA18: =IF(OR(작성!$B15="",작성!AE15=""),"",TEXT(작성!AJ15,"0")) | BB18: =IF(OR(작성!$B15="",작성!AE15=""),"","") | BC18: ="" | BD18: ="" | BE18: ="" | BF18: ="" | BG18: =IF(작성!$B15="","",IF(작성!D15="영수","01","02"))
... A56: =IF(작성!$B53="","",IF(작성!C53="영세율","02","01")) | B56: =IF(작성!$B53="","",IF(AND(ISNUMBER(작성!B53),작성!B53>=20000101,작성!B53<=29991231),TEXT(작성!B53,"0"),IF(AND(ISNUMBER(작성!B53),작성!B53>=36526,작성!B53<=73050),TEXT(작성!B53,"yyyymmdd"),IF(AND(NOT(ISNUMBER(작성!B53)),LEN(작성!B53)=8,ISNUMBER(VALUE(작성!B53))),작성!B53,"")))) | C56: =IF(작성!$B53="","",SUBSTITUTE(SUBSTITUTE(내정보!$B$3,"-","")," ","")) | D56: =IF(작성!$B53="","",내정보!$B$4) | E56: =IF(작성!$B53="","",내정보!$B$5) | F56: =IF(작성!$B53="","",내정보!$B$6) | G56: =IF(작성!$B53="","",내정보!$B$7) | H56: =IF(작성!$B53="","",내정보!$B$8) | I56: =IF(작성!$B53="","",내정보!$B$9) | J56: =IF(작성!$B53="","",내정보!$B$10) | K56: =IF(작성!$B53="","",SUBSTITUTE(SUBSTITUTE(IFERROR(VLOOKUP(SUBSTITUTE(SUBSTITUTE(SUBSTITUTE(작성!E53,"~","~~"),"*","~*"),"?","~?"),거래처!$A$4:$I$43,2,FALSE),""),"-","")," ","")) | L56: =IF(작성!$B53="","",IFERROR(VLOOKUP(SUBSTITUTE(SUBSTITUTE(SUBSTITUTE(작성!E53,"~","~~"),"*","~*"),"?","~?"),거래처!$A$4:$I$43,3,FALSE),"")) | M56: =IF(작성!$B53="","",IFERROR(VLOOKUP(SUBSTITUTE(SUBSTITUTE(SUBSTITUTE(작성!E53,"~","~~"),"*","~*"),"?","~?"),거래처!$A$4:$I$43,1,FALSE),"")) | N56: =IF(작성!$B53="","",IFERROR(VLOOKUP(SUBSTITUTE(SUBSTITUTE(SUBSTITUTE(작성!E53,"~","~~"),"*","~*"),"?","~?"),거래처!$A$4:$I$43,4,FALSE),"")) | O56: =IF(작성!$B53="","",IFERROR(VLOOKUP(SUBSTITUTE(SUBSTITUTE(SUBSTITUTE(작성!E53,"~","~~"),"*","~*"),"?","~?"),거래처!$A$4:$I$43,5,FALSE),"")) | P56: =IF(작성!$B53="","",IFERROR(VLOOKUP(SUBSTITUTE(SUBSTITUTE(SUBSTITUTE(작성!E53,"~","~~"),"*","~*"),"?","~?"),거래처!$A$4:$I$43,6,FALSE),"")) | Q56: =IF(작성!$B53="","",IFERROR(VLOOKUP(SUBSTITUTE(SUBSTITUTE(SUBSTITUTE(작성!E53,"~","~~"),"*","~*"),"?","~?"),거래처!$A$4:$I$43,7,FALSE),"")) | R56: =IF(작성!$B53="","",IFERROR(VLOOKUP(SUBSTITUTE(SUBSTITUTE(SUBSTITUTE(작성!E53,"~","~~"),"*","~*"),"?","~?"),거래처!$A$4:$I$43,8,FALSE),"")) | S56: =IF(작성!$B53="","",IFERROR(VLOOKUP(SUBSTITUTE(SUBSTITUTE(SUBSTITUTE(작성!E53,"~","~~"),"*","~*"),"?","~?"),거래처!$A$4:$I$43,9,FALSE),"")) | T56: =IF(작성!$B53="","",TEXT(작성!F53,"0")) | U56: =IF(작성!$B53="","",TEXT(작성!G53,"0")) | V56: =IF(작성!$B53="","",작성!H53) | W56: =IF(OR(작성!$B53="",작성!J53=""),"",TEXT(작성!I53,"00")) | X56: =IF(OR(작성!$B53="",작성!J53=""),"",작성!J53) | Y56: =IF(OR(작성!$B53="",작성!J53=""),"",작성!K53) | Z56: =IF(OR(작성!$B53="",작성!J53=""),"",IF(작성!L53=INT(작성!L53),TEXT(작성!L53,"0"),TEXT(작성!L53,"0.##"))) | AA56: =IF(OR(작성!$B53="",작성!J53=""),"",IF(작성!M53=INT(작성!M53),TEXT(작성!M53,"0"),TEXT(작성!M53,"0.##"))) | AB56: =IF(OR(작성!$B53="",작성!J53=""),"",TEXT(작성!N53,"0")) | AC56: =IF(OR(작성!$B53="",작성!J53=""),"",TEXT(작성!O53,"0")) | AD56: =IF(OR(작성!$B53="",작성!J53=""),"","") | AE56: =IF(OR(작성!$B53="",작성!Q53=""),"",TEXT(작성!P53,"00")) | AF56: =IF(OR(작성!$B53="",작성!Q53=""),"",작성!Q53) | AG56: =IF(OR(작성!$B53="",작성!Q53=""),"",작성!R53) | AH56: =IF(OR(작성!$B53="",작성!Q53=""),"",IF(작성!S53=INT(작성!S53),TEXT(작성!S53,"0"),TEXT(작성!S53,"0.##"))) | AI56: =IF(OR(작성!$B53="",작성!Q53=""),"",IF(작성!T53=INT(작성!T53),TEXT(작성!T53,"0"),TEXT(작성!T53,"0.##"))) | AJ56: =IF(OR(작성!$B53="",작성!Q53=""),"",TEXT(작성!U53,"0")) | AK56: =IF(OR(작성!$B53="",작성!Q53=""),"",TEXT(작성!V53,"0")) | AL56: =IF(OR(작성!$B53="",작성!Q53=""),"","") | AM56: =IF(OR(작성!$B53="",작성!X53=""),"",TEXT(작성!W53,"00")) | AN56: =IF(OR(작성!$B53="",작성!X53=""),"",작성!X53) | AO56: =IF(OR(작성!$B53="",작성!X53=""),"",작성!Y53) | AP56: =IF(OR(작성!$B53="",작성!X53=""),"",IF(작성!Z53=INT(작성!Z53),TEXT(작성!Z53,"0"),TEXT(작성!Z53,"0.##"))) | AQ56: =IF(OR(작성!$B53="",작성!X53=""),"",IF(작성!AA53=INT(작성!AA53),TEXT(작성!AA53,"0"),TEXT(작성!AA53,"0.##"))) | AR56: =IF(OR(작성!$B53="",작성!X53=""),"",TEXT(작성!AB53,"0")) | AS56: =IF(OR(작성!$B53="",작성!X53=""),"",TEXT(작성!AC53,"0")) | AT56: =IF(OR(작성!$B53="",작성!X53=""),"","") | AU56: =IF(OR(작성!$B53="",작성!AE53=""),"",TEXT(작성!AD53,"00")) | AV56: =IF(OR(작성!$B53="",작성!AE53=""),"",작성!AE53) | AW56: =IF(OR(작성!$B53="",작성!AE53=""),"",작성!AF53) | AX56: =IF(OR(작성!$B53="",작성!AE53=""),"",IF(작성!AG53=INT(작성!AG53),TEXT(작성!AG53,"0"),TEXT(작성!AG53,"0.##"))) | AY56: =IF(OR(작성!$B53="",작성!AE53=""),"",IF(작성!AH53=INT(작성!AH53),TEXT(작성!AH53,"0"),TEXT(작성!AH53,"0.##"))) | AZ56: =IF(OR(작성!$B53="",작성!AE53=""),"",TEXT(작성!AI53,"0")) | BA56: =IF(OR(작성!$B53="",작성!AE53=""),"",TEXT(작성!AJ53,"0")) | BB56: =IF(OR(작성!$B53="",작성!AE53=""),"","") | BC56: ="" | BD56: ="" | BE56: ="" | BF56: ="" | BG56: =IF(작성!$B53="","",IF(작성!D53="영수","01","02"))

Sheet 작성
A1: 여기에 적으십시오. 왼쪽 「확인」 칸이 모두 OK 면 홈택스에 올리실 수 있습니다. | J1: =HYPERLINK("#'내정보'!B3","① 내정보 채우기") | N1: =HYPERLINK("#'거래처'!A4","② 거래처 적어 두기") | S1: ③ 아래에 한 줄씩 적으시면 됩니다
A3: 확인 | B3: 작성일자 | C3: 종류 | D3: 영수/청구 | E3: 거래처 | F3: 공급가액 합계 | G3: 세액 합계 | H3: 비고 | I3: 일자1 | J3: 품목1 | K3: 규격1 | L3: 수량1 | M3: 단가1 | N3: 공급가액1 | O3: 세액1 | P3: 일자2 | Q3: 품목2 | R3: 규격2 | S3: 수량2 | T3: 단가2 | U3: 공급가액2 | V3: 세액2 | W3: 일자3 | X3: 품목3 | Y3: 규격3 | Z3: 수량3 | AA3: 단가3 | AB3: 공급가액3 | AC3: 세액3 | AD3: 일자4 | AE3: 품목4 | AF3: 규격4 | AG3: 수량4 | AH3: 단가4 | AI3: 공급가액4 | AJ3: 세액4
